BEGIN:VCALENDAR
VERSION:2.0
PRODID:-//queerNB e.V. - ECPv6.15.20//NONSGML v1.0//EN
CALSCALE:GREGORIAN
METHOD:PUBLISH
X-WR-CALNAME:queerNB e.V.
X-ORIGINAL-URL:https://queernb.de
X-WR-CALDESC:Veranstaltungen für queerNB e.V.
REFRESH-INTERVAL;VALUE=DURATION:PT1H
X-Robots-Tag:noindex
X-PUBLISHED-TTL:PT1H
BEGIN:VTIMEZONE
TZID:Europe/Paris
BEGIN:DAYLIGHT
TZOFFSETFROM:+0100
TZOFFSETTO:+0200
TZNAME:CEST
DTSTART:20230326T010000
END:DAYLIGHT
BEGIN:STANDARD
TZOFFSETFROM:+0200
TZOFFSETTO:+0100
TZNAME:CET
DTSTART:20231029T010000
END:STANDARD
BEGIN:DAYLIGHT
TZOFFSETFROM:+0100
TZOFFSETTO:+0200
TZNAME:CEST
DTSTART:20240331T010000
END:DAYLIGHT
BEGIN:STANDARD
TZOFFSETFROM:+0200
TZOFFSETTO:+0100
TZNAME:CET
DTSTART:20241027T010000
END:STANDARD
BEGIN:DAYLIGHT
TZOFFSETFROM:+0100
TZOFFSETTO:+0200
TZNAME:CEST
DTSTART:20250330T010000
END:DAYLIGHT
BEGIN:STANDARD
TZOFFSETFROM:+0200
TZOFFSETTO:+0100
TZNAME:CET
DTSTART:20251026T010000
END:STANDARD
END:VTIMEZONE
BEGIN:VEVENT
DTSTART;TZID=Europe/Paris:20240924T100000
DTEND;TZID=Europe/Paris:20240924T160000
DTSTAMP:20260426T032204
CREATED:20240410T143753Z
LAST-MODIFIED:20240629T183712Z
UID:4199-1727172000-1727193600@queernb.de
SUMMARY:Fachveranstaltung zur Thematik „Geschlechtliche und sexuelle Vielfalt mitdenken und handeln. Ein wichtiger Baustein für den Kinder- und Jugendschutz.“
DESCRIPTION:Titel: Auf dem Weg zur „Regenbogenkompetenz“ in der Kinder- und Jugendhilfe und Jugendarbeit. Zum professionellen Umgang mit Themen der sexuellen und geschlechtlichen Vielfalt. \nInhalte \n\nEinführung in das Konzept der Regenbogenkompetenz nach Prof. Ulrike Schmauch\nWas bedeutet „Regenbogenkompetenz“ für das pädagogische Handeln in der Kinder- und Jugendhilfe und Jugendarbeit?\nEinführung in die zentralen Begrifflichkeiten aus dem Spektrum sexueller und geschlechtlicher Vielfalt\nWie ist die Lebenssituation von queeren Kindern und Jugendlichen?\nWarum ist das Thema in meinem professionellen Kontext wichtig?\nUnterscheidung von 4 Ebenen in denen Themen sexueller und geschlechtlicher Vielfalt vorkommen kann.\nWie ist rechtliche Situation? Was sind die aktuellen gesetzlichen Grundlagen im Kontext sexueller und geschlechtlicher Vielfalt?\nWas kann ich als Fachkraft tun und an wen kann ich mich wenden?\nWelche Unterstützungsmöglichkeiten gibt es und an welche Exptert*innen kann ich weiter verweisen?\n\nReferent*in: Kevin Rosenberger\, Akademie Waldschlösschen \nWeitere Informationen und Veranstaltungsflyer: hier.
URL:https://queernb.de/termin/fachveranstaltung-zur-thematik-geschlechtliche-und-sexuelle-vielfalt-mitdenken-und-handeln-ein-wichtiger-baustein-fuer-den-kinder-und-jugendschutz/
LOCATION:Phönixeum\, Feldstr. 3\, Neubrandenburg\, 17033
CATEGORIES:Bildung
ORGANIZER;CN="rosalila Bildung & Beratung gemeinn%C3%BCtzige UG (haftungsbeschr%C3%A4nkt)":MAILTO:post@rosalila.de
END:VEVENT
END:VCALENDAR