BEGIN:VCALENDAR
VERSION:2.0
PRODID:-//queerNB e.V. - ECPv6.15.20//NONSGML v1.0//EN
CALSCALE:GREGORIAN
METHOD:PUBLISH
X-ORIGINAL-URL:https://queernb.de
X-WR-CALDESC:Veranstaltungen für queerNB e.V.
REFRESH-INTERVAL;VALUE=DURATION:PT1H
X-Robots-Tag:noindex
X-PUBLISHED-TTL:PT1H
BEGIN:VTIMEZONE
TZID:Europe/Paris
BEGIN:DAYLIGHT
TZOFFSETFROM:+0100
TZOFFSETTO:+0200
TZNAME:CEST
DTSTART:20230326T010000
END:DAYLIGHT
BEGIN:STANDARD
TZOFFSETFROM:+0200
TZOFFSETTO:+0100
TZNAME:CET
DTSTART:20231029T010000
END:STANDARD
BEGIN:DAYLIGHT
TZOFFSETFROM:+0100
TZOFFSETTO:+0200
TZNAME:CEST
DTSTART:20240331T010000
END:DAYLIGHT
BEGIN:STANDARD
TZOFFSETFROM:+0200
TZOFFSETTO:+0100
TZNAME:CET
DTSTART:20241027T010000
END:STANDARD
BEGIN:DAYLIGHT
TZOFFSETFROM:+0100
TZOFFSETTO:+0200
TZNAME:CEST
DTSTART:20250330T010000
END:DAYLIGHT
BEGIN:STANDARD
TZOFFSETFROM:+0200
TZOFFSETTO:+0100
TZNAME:CET
DTSTART:20251026T010000
END:STANDARD
END:VTIMEZONE
BEGIN:VEVENT
DTSTART;TZID=Europe/Paris:20241022T170000
DTEND;TZID=Europe/Paris:20241022T190000
DTSTAMP:20260426T014543
CREATED:20240929T190258Z
LAST-MODIFIED:20240929T190258Z
UID:4548-1729616400-1729623600@queernb.de
SUMMARY:Film: Eismayer
DESCRIPTION:ein Film von David Wagner. \nMonatlich findet\, jeden vierten Dienstag 17 Uhr \, im kleinen Kreis ein Filmabend mit queeren Filmen statt. Partner ist dabei die EDITION SALZGEBER mit queeren Filmen aus aller Welt aller Kontinente. Dies ist ein gemeinsames Projekt mit dem LV Soziokultur MV e.V. \nKein Eintritt\, da dies ein nichtkommerzielles Angebot ist. Begrenzte Teilnahmemöglichkeiten\, am besten pünktlich und etwas eher kommen.
URL:https://queernb.de/termin/film-eismayer/
LOCATION:rosalila Beratung & Bildung gemeinnützige UG (haftungsbeschränkt)\, Feldstr. 3\, Neubrandenburg\, 17033\, Germany
CATEGORIES:Kino
ORGANIZER;CN="rosalila Bildung & Beratung gemeinn%C3%BCtzige UG (haftungsbeschr%C3%A4nkt)":MAILTO:post@rosalila.de
END:VEVENT
END:VCALENDAR