BEGIN:VCALENDAR
VERSION:2.0
PRODID:-//queerNB e.V. - ECPv6.15.20//NONSGML v1.0//EN
CALSCALE:GREGORIAN
METHOD:PUBLISH
X-ORIGINAL-URL:https://queernb.de
X-WR-CALDESC:Veranstaltungen für queerNB e.V.
REFRESH-INTERVAL;VALUE=DURATION:PT1H
X-Robots-Tag:noindex
X-PUBLISHED-TTL:PT1H
BEGIN:VTIMEZONE
TZID:Europe/Paris
BEGIN:DAYLIGHT
TZOFFSETFROM:+0100
TZOFFSETTO:+0200
TZNAME:CEST
DTSTART:20230326T010000
END:DAYLIGHT
BEGIN:STANDARD
TZOFFSETFROM:+0200
TZOFFSETTO:+0100
TZNAME:CET
DTSTART:20231029T010000
END:STANDARD
BEGIN:DAYLIGHT
TZOFFSETFROM:+0100
TZOFFSETTO:+0200
TZNAME:CEST
DTSTART:20240331T010000
END:DAYLIGHT
BEGIN:STANDARD
TZOFFSETFROM:+0200
TZOFFSETTO:+0100
TZNAME:CET
DTSTART:20241027T010000
END:STANDARD
BEGIN:DAYLIGHT
TZOFFSETFROM:+0100
TZOFFSETTO:+0200
TZNAME:CEST
DTSTART:20250330T010000
END:DAYLIGHT
BEGIN:STANDARD
TZOFFSETFROM:+0200
TZOFFSETTO:+0100
TZNAME:CET
DTSTART:20251026T010000
END:STANDARD
END:VTIMEZONE
BEGIN:VEVENT
DTSTART;TZID=Europe/Paris:20241031T193000
DTEND;TZID=Europe/Paris:20241031T220000
DTSTAMP:20260425T235953
CREATED:20240929T184437Z
LAST-MODIFIED:20240929T184540Z
UID:4546-1730403000-1730412000@queernb.de
SUMMARY:Kino: COMING OUT
DESCRIPTION:In der Nacht\, in der die Premiere dieses Films gefeiert wurde\, fiel die Berliner Mauer. Dass er in dieser turbulenten Zeit nicht wie viele andere spätere DEFA-Filme kaum beachtet wurde\, ist vor allem dem Gewinn des silbernen Bären bei der Berlinale 1990 zu verdanken. \nDer junge Lehrer Philipp Klarmann muss sich in diesem Film mit seiner sexuellen Orientierung auseinandersetzen. Einerseits ist er in einer partnerschaftlichen Beziehung mit seiner Kollegin Tanja\, andererseits wirft ihn das Zusammentreffen mit seiner Jugendliebe Jakob aus der Bahn. Nach einer durchzechten Nacht wird er von zwei unbekannten Helfern nach Hause gebracht. Einer ist Matthias\, den er später beim Ticketkauf vor dem Schauspielhaus wieder trifft. Mit ihm beginnt er eine Beziehung. Beim Konzertbesuch treffen dann Tanja\, Philipp und Matthias aufeinander. Es\nkommt zum Eklat\, der Philipp herausfordert und ihm eine Entscheidung abbringen wird. \n„Coming Out“ blieb der einzige DDR-Film mit zentral homosexueller Thematik. Sieben Jahre warb Heiner Carow um die Verwirklichung des Vorhabens. Seine souveräne Inszenierung mit ruhiger Kameraführung\, der gefühlvolle Soundtrack und vor allem die beeindruckende Besetzung lassen den Zuschauer die tragische Lage des Lehrers buchstäblich mitfühlen. (Text: R. Weber) \nNach der Filmvorführung steht Matthias Freihof\, der Hauptdarsteller des Films\, für ein Gespräch mit dem Publikum zur Verfügung. Die Einführung in den Film und die Moderation übernimmt unser Vereinsmitglied Rüdiger Weber.
URL:https://queernb.de/termin/kino-coming-out/
LOCATION:KINO LATÜCHT\, Große Krauthöfer Str. 16\, Neubrandenburg\, 1933
CATEGORIES:Kino
ORGANIZER;CN="Lat%C3%BCcht Film & Medien e.V. Neubrandenburg":MAILTO:verein@latuecht.de
END:VEVENT
END:VCALENDAR