BEGIN:VCALENDAR
VERSION:2.0
PRODID:-//queerNB e.V. - ECPv6.15.20//NONSGML v1.0//EN
CALSCALE:GREGORIAN
METHOD:PUBLISH
X-ORIGINAL-URL:https://queernb.de
X-WR-CALDESC:Veranstaltungen für queerNB e.V.
REFRESH-INTERVAL;VALUE=DURATION:PT1H
X-Robots-Tag:noindex
X-PUBLISHED-TTL:PT1H
BEGIN:VTIMEZONE
TZID:Europe/Paris
BEGIN:DAYLIGHT
TZOFFSETFROM:+0100
TZOFFSETTO:+0200
TZNAME:CEST
DTSTART:20230326T010000
END:DAYLIGHT
BEGIN:STANDARD
TZOFFSETFROM:+0200
TZOFFSETTO:+0100
TZNAME:CET
DTSTART:20231029T010000
END:STANDARD
BEGIN:DAYLIGHT
TZOFFSETFROM:+0100
TZOFFSETTO:+0200
TZNAME:CEST
DTSTART:20240331T010000
END:DAYLIGHT
BEGIN:STANDARD
TZOFFSETFROM:+0200
TZOFFSETTO:+0100
TZNAME:CET
DTSTART:20241027T010000
END:STANDARD
BEGIN:DAYLIGHT
TZOFFSETFROM:+0100
TZOFFSETTO:+0200
TZNAME:CEST
DTSTART:20250330T010000
END:DAYLIGHT
BEGIN:STANDARD
TZOFFSETFROM:+0200
TZOFFSETTO:+0100
TZNAME:CET
DTSTART:20251026T010000
END:STANDARD
END:VTIMEZONE
BEGIN:VEVENT
DTSTART;TZID=Europe/Paris:20241114T160000
DTEND;TZID=Europe/Paris:20241114T180000
DTSTAMP:20260426T000123
CREATED:20240617T100342Z
LAST-MODIFIED:20241019T094301Z
UID:4314-1731600000-1731607200@queernb.de
SUMMARY:Queere Lese- und Lebensgeschichten
DESCRIPTION:Diese Lesung ist daher keine gewöhnliche Autor*innenlesung. Vielmehr werden queere Neubrandenburger*innen zu Wort kommen\, ihre Lieblingsbücher vorstellen und uns erzählen\, welche Geschichten sie damit in Verbindung bringen. Dazu freuen wir uns u. a. Nils Berghof\, André Sandmann\, Christoph Biallas als Lesende begrüßen zu dürfen. Jede*r von ihnen hat etwa 20 Minuten Zeit für ihre bzw. seine Geschichte.
URL:https://queernb.de/termin/queere-lese-und-lebensgeschichten/
LOCATION:Regionalbibliothek Neubrandenburg\, Marktplatz 1\, Neubrandenburg\, 17033\, Deutschland
CATEGORIES:Kultur
ORGANIZER;CN="queerNB e. V.":MAILTO:info@queernb.de
END:VEVENT
END:VCALENDAR