BEGIN:VCALENDAR
VERSION:2.0
PRODID:-//queerNB e.V. - ECPv6.15.20//NONSGML v1.0//EN
CALSCALE:GREGORIAN
METHOD:PUBLISH
X-WR-CALNAME:queerNB e.V.
X-ORIGINAL-URL:https://queernb.de
X-WR-CALDESC:Veranstaltungen für queerNB e.V.
REFRESH-INTERVAL;VALUE=DURATION:PT1H
X-Robots-Tag:noindex
X-PUBLISHED-TTL:PT1H
BEGIN:VTIMEZONE
TZID:Europe/Paris
BEGIN:DAYLIGHT
TZOFFSETFROM:+0100
TZOFFSETTO:+0200
TZNAME:CEST
DTSTART:20230326T010000
END:DAYLIGHT
BEGIN:STANDARD
TZOFFSETFROM:+0200
TZOFFSETTO:+0100
TZNAME:CET
DTSTART:20231029T010000
END:STANDARD
BEGIN:DAYLIGHT
TZOFFSETFROM:+0100
TZOFFSETTO:+0200
TZNAME:CEST
DTSTART:20240331T010000
END:DAYLIGHT
BEGIN:STANDARD
TZOFFSETFROM:+0200
TZOFFSETTO:+0100
TZNAME:CET
DTSTART:20241027T010000
END:STANDARD
BEGIN:DAYLIGHT
TZOFFSETFROM:+0100
TZOFFSETTO:+0200
TZNAME:CEST
DTSTART:20250330T010000
END:DAYLIGHT
BEGIN:STANDARD
TZOFFSETFROM:+0200
TZOFFSETTO:+0100
TZNAME:CET
DTSTART:20251026T010000
END:STANDARD
END:VTIMEZONE
BEGIN:VEVENT
DTSTART;TZID=Europe/Paris:20241116T220000
DTEND;TZID=Europe/Paris:20241117T030000
DTSTAMP:20260425T235339
CREATED:20241024T201751Z
LAST-MODIFIED:20241024T201752Z
UID:4580-1731794400-1731812400@queernb.de
SUMMARY:Queer Night - Violet Edition
DESCRIPTION:Lust auf eine unvergessliche Partynacht? Dann markier dir den 16. November in deinem Kalender! Ab 22:00 Uhr verwandelt sich die „Offene Mühle“ in ein violettes Paradies für die queere Community und Friends. \n✨ DJ Paul Paillette wird die Turntables rocken und dich mit den besten Beats zum Tanzen bringen! \nDresscode: Violett! Trag ein violettes Kleidungsstück und sicher dir einen Gratis Shot am Einlass! \n🎉 Freut dich auf: \n🍬 Free Candy \n🎈 Special Deko \n🥳 Eine Partynacht\, die du so schnell nicht vergessen wirst! \nDer Eintritt beträgt nur 10 Euro. \nKomm vorbei\, bring deine Freunde mit und lass uns gemeinsam eine Nacht voller Spaß\, Liebe und Freiheit feiern! 💜 Wir freuen uns auf dich! 🥳✨
URL:https://queernb.de/termin/queer-night-violet-edition/
LOCATION:Offene Mühle\, Jahnstr. 3a\, Neubrandenburg\, 17033\, Germany
CATEGORIES:Party
ATTACH;FMTTYPE=image/jpeg:https://queernb.de/wp-content/uploads/2024/10/Evacuate-the-Dancefloor.jpg
ORGANIZER;CN="queerNB e. V.":MAILTO:info@queernb.de
END:VEVENT
END:VCALENDAR