BEGIN:VCALENDAR
VERSION:2.0
PRODID:-//queerNB e.V. - ECPv6.15.20//NONSGML v1.0//EN
CALSCALE:GREGORIAN
METHOD:PUBLISH
X-WR-CALNAME:queerNB e.V.
X-ORIGINAL-URL:https://queernb.de
X-WR-CALDESC:Veranstaltungen für queerNB e.V.
REFRESH-INTERVAL;VALUE=DURATION:PT1H
X-Robots-Tag:noindex
X-PUBLISHED-TTL:PT1H
BEGIN:VTIMEZONE
TZID:Europe/Paris
BEGIN:DAYLIGHT
TZOFFSETFROM:+0100
TZOFFSETTO:+0200
TZNAME:CEST
DTSTART:20240331T010000
END:DAYLIGHT
BEGIN:STANDARD
TZOFFSETFROM:+0200
TZOFFSETTO:+0100
TZNAME:CET
DTSTART:20241027T010000
END:STANDARD
BEGIN:DAYLIGHT
TZOFFSETFROM:+0100
TZOFFSETTO:+0200
TZNAME:CEST
DTSTART:20250330T010000
END:DAYLIGHT
BEGIN:STANDARD
TZOFFSETFROM:+0200
TZOFFSETTO:+0100
TZNAME:CET
DTSTART:20251026T010000
END:STANDARD
BEGIN:DAYLIGHT
TZOFFSETFROM:+0100
TZOFFSETTO:+0200
TZNAME:CEST
DTSTART:20260329T010000
END:DAYLIGHT
BEGIN:STANDARD
TZOFFSETFROM:+0200
TZOFFSETTO:+0100
TZNAME:CET
DTSTART:20261025T010000
END:STANDARD
END:VTIMEZONE
BEGIN:VEVENT
DTSTART;TZID=Europe/Paris:20250111T140000
DTEND;TZID=Europe/Paris:20250111T170000
DTSTAMP:20260425T202833
CREATED:20241221T175650Z
LAST-MODIFIED:20241221T175650Z
UID:4692-1736604000-1736614800@queernb.de
SUMMARY:Frauen*Café
DESCRIPTION:Cis und trans* Frauen sind herzlich willkommen! Lasst uns zusammen eine schöne Zeit verbringen und die Vielfalt feiern. \nDas Angebot ist kostenlos\, eine Anmeldung ist nicht erforderlich. Das Angebot findet im Dachgeschoss im Wiekhaus 46\, 4. Ringstr. 46 in 17033 Neubrandenburg statt. Dieser Raum ist nur über eine Treppe erreichbar.
URL:https://queernb.de/termin/frauencafe-3/
LOCATION:Wiekhaus 46 – Dein queeres Zentrum in Neubrandenburg\, 4. Ringstr. 46\, Neubrandenburg\, 17033
CATEGORIES:Community,FINTA
ORGANIZER;CN="queerNB e. V.":MAILTO:info@queernb.de
END:VEVENT
BEGIN:VEVENT
DTSTART;TZID=Europe/Paris:20250111T200000
DTEND;TZID=Europe/Paris:20250111T230000
DTSTAMP:20260425T202833
CREATED:20241221T175203Z
LAST-MODIFIED:20241223T212627Z
UID:4690-1736625600-1736636400@queernb.de
SUMMARY:Herrenabend
DESCRIPTION:Geselliger Herrenabend. Genieße ein kühles Getränk und verbringe mit anderen einen schönen Samstagabend. \nDas Angebot findet im Erdgeschoss im Wiekhaus 46\, 4. Ringstr. 46 in 17033 Neubrandenburg statt. Der Raum ist nur über eine Treppe erreichbar.
URL:https://queernb.de/termin/herrenabend-2/
LOCATION:Wiekhaus 46 – Dein queeres Zentrum in Neubrandenburg\, 4. Ringstr. 46\, Neubrandenburg\, 17033
CATEGORIES:Community,Men Only
ORGANIZER;CN="queerNB e. V.":MAILTO:info@queernb.de
END:VEVENT
END:VCALENDAR