BEGIN:VCALENDAR
VERSION:2.0
PRODID:-//queerNB e.V. - ECPv6.15.20//NONSGML v1.0//EN
CALSCALE:GREGORIAN
METHOD:PUBLISH
X-WR-CALNAME:queerNB e.V.
X-ORIGINAL-URL:https://queernb.de
X-WR-CALDESC:Veranstaltungen für queerNB e.V.
REFRESH-INTERVAL;VALUE=DURATION:PT1H
X-Robots-Tag:noindex
X-PUBLISHED-TTL:PT1H
BEGIN:VTIMEZONE
TZID:Europe/Paris
BEGIN:DAYLIGHT
TZOFFSETFROM:+0100
TZOFFSETTO:+0200
TZNAME:CEST
DTSTART:20240331T010000
END:DAYLIGHT
BEGIN:STANDARD
TZOFFSETFROM:+0200
TZOFFSETTO:+0100
TZNAME:CET
DTSTART:20241027T010000
END:STANDARD
BEGIN:DAYLIGHT
TZOFFSETFROM:+0100
TZOFFSETTO:+0200
TZNAME:CEST
DTSTART:20250330T010000
END:DAYLIGHT
BEGIN:STANDARD
TZOFFSETFROM:+0200
TZOFFSETTO:+0100
TZNAME:CET
DTSTART:20251026T010000
END:STANDARD
BEGIN:DAYLIGHT
TZOFFSETFROM:+0100
TZOFFSETTO:+0200
TZNAME:CEST
DTSTART:20260329T010000
END:DAYLIGHT
BEGIN:STANDARD
TZOFFSETFROM:+0200
TZOFFSETTO:+0100
TZNAME:CET
DTSTART:20261025T010000
END:STANDARD
END:VTIMEZONE
BEGIN:VEVENT
DTSTART;TZID=Europe/Paris:20250127T201500
DTEND;TZID=Europe/Paris:20250127T214500
DTSTAMP:20260425T185535
CREATED:20241221T181356Z
LAST-MODIFIED:20241221T181356Z
UID:4698-1738008900-1738014300@queernb.de
SUMMARY:Queer FilmNacht: On the Go
DESCRIPTION:+++ spanisch-englische Originalfassung mit deutschen Untertiteln +++ Milagros möchte schwanger werden\, schreckt aber vor der Anonymität der künstlichen Befruchtung zurück. Mit dem alten Chevrolet ihres Vaters macht sie…
URL:https://queernb.de/termin/queer-filmnacht-on-the-go/
LOCATION:Kino Movie Star Neustrelitz\, Kühlhausberg 16\, Neustrelitz\, 17235
CATEGORIES:Kino
END:VEVENT
END:VCALENDAR