BEGIN:VCALENDAR
VERSION:2.0
PRODID:-//queerNB e.V. - ECPv6.15.20//NONSGML v1.0//EN
CALSCALE:GREGORIAN
METHOD:PUBLISH
X-WR-CALNAME:queerNB e.V.
X-ORIGINAL-URL:https://queernb.de
X-WR-CALDESC:Veranstaltungen für queerNB e.V.
REFRESH-INTERVAL;VALUE=DURATION:PT1H
X-Robots-Tag:noindex
X-PUBLISHED-TTL:PT1H
BEGIN:VTIMEZONE
TZID:Europe/Paris
BEGIN:DAYLIGHT
TZOFFSETFROM:+0100
TZOFFSETTO:+0200
TZNAME:CEST
DTSTART:20240331T010000
END:DAYLIGHT
BEGIN:STANDARD
TZOFFSETFROM:+0200
TZOFFSETTO:+0100
TZNAME:CET
DTSTART:20241027T010000
END:STANDARD
BEGIN:DAYLIGHT
TZOFFSETFROM:+0100
TZOFFSETTO:+0200
TZNAME:CEST
DTSTART:20250330T010000
END:DAYLIGHT
BEGIN:STANDARD
TZOFFSETFROM:+0200
TZOFFSETTO:+0100
TZNAME:CET
DTSTART:20251026T010000
END:STANDARD
BEGIN:DAYLIGHT
TZOFFSETFROM:+0100
TZOFFSETTO:+0200
TZNAME:CEST
DTSTART:20260329T010000
END:DAYLIGHT
BEGIN:STANDARD
TZOFFSETFROM:+0200
TZOFFSETTO:+0100
TZNAME:CET
DTSTART:20261025T010000
END:STANDARD
END:VTIMEZONE
BEGIN:VEVENT
DTSTART;TZID=Europe/Paris:20250215T210000
DTEND;TZID=Europe/Paris:20250216T030000
DTSTAMP:20260425T185550
CREATED:20250213T075715Z
LAST-MODIFIED:20250213T075715Z
UID:4756-1739653200-1739674800@queernb.de
SUMMARY:WE CHOOSE LOVE! - Die offizielle After Pride Party
DESCRIPTION:Lass die Winterkälte hinter dir! Nach der Demo gehen wir tanzen!\nAm 15. Februar ab 21:00 Uhr verwandelt sich die Offene Mühle in deinen queeren Safe Space!\nLass dich von unserer\nDJane mitreißen und tanze bis in die frühen Morgenstunden! Freue dich auf eine inklusive Atmosphäre\, in der du andere Queers & Allies treffen kannst.\nDer Eintritt betragt 5 Euro\, aber wir freuen uns natürlich über jeden zusätzlichen Euro! Alle Einnahmen fließen direkt in die Projekte des queerNB e.V. \nLet’s Dance! Wir wählen Liebe – und du?\nKomm vorbei\, bring deine Freunde mit und genieße eine unvergesslich Nacht!\nWir freuen uns auf dich!
URL:https://queernb.de/termin/we-choose-love-die-offizielle-after-pride-party/
LOCATION:Offene Mühle\, Jahnstr. 3a\, Neubrandenburg\, 17033\, Germany
CATEGORIES:CSD,Kultur,Party
ATTACH;FMTTYPE=image/png:https://queernb.de/wp-content/uploads/2025/02/Untitled-design.png
ORGANIZER;CN="queerNB e. V.":MAILTO:info@queernb.de
END:VEVENT
END:VCALENDAR