BEGIN:VCALENDAR
VERSION:2.0
PRODID:-//queerNB e.V. - ECPv6.15.20//NONSGML v1.0//EN
CALSCALE:GREGORIAN
METHOD:PUBLISH
X-WR-CALNAME:queerNB e.V.
X-ORIGINAL-URL:https://queernb.de
X-WR-CALDESC:Veranstaltungen für queerNB e.V.
REFRESH-INTERVAL;VALUE=DURATION:PT1H
X-Robots-Tag:noindex
X-PUBLISHED-TTL:PT1H
BEGIN:VTIMEZONE
TZID:Europe/Paris
BEGIN:DAYLIGHT
TZOFFSETFROM:+0100
TZOFFSETTO:+0200
TZNAME:CEST
DTSTART:20230326T010000
END:DAYLIGHT
BEGIN:STANDARD
TZOFFSETFROM:+0200
TZOFFSETTO:+0100
TZNAME:CET
DTSTART:20231029T010000
END:STANDARD
BEGIN:DAYLIGHT
TZOFFSETFROM:+0100
TZOFFSETTO:+0200
TZNAME:CEST
DTSTART:20240331T010000
END:DAYLIGHT
BEGIN:STANDARD
TZOFFSETFROM:+0200
TZOFFSETTO:+0100
TZNAME:CET
DTSTART:20241027T010000
END:STANDARD
BEGIN:DAYLIGHT
TZOFFSETFROM:+0100
TZOFFSETTO:+0200
TZNAME:CEST
DTSTART:20250330T010000
END:DAYLIGHT
BEGIN:STANDARD
TZOFFSETFROM:+0200
TZOFFSETTO:+0100
TZNAME:CET
DTSTART:20251026T010000
END:STANDARD
END:VTIMEZONE
BEGIN:VEVENT
DTSTART;TZID=Europe/Paris:20240705T173000
DTEND;TZID=Europe/Paris:20240705T203000
DTSTAMP:20260426T051626
CREATED:20240329T101216Z
LAST-MODIFIED:20240329T101216Z
UID:4098-1720200600-1720211400@queernb.de
SUMMARY:U27 MeetUp
DESCRIPTION:Am 21. Mai 2022 hat unser Vereinsmitglied Sam das U27 MeetUp ins Leben gerufen. Das U27 MeetUp ist ein Angebot für alle queeren Jugendlichen und Allies aus Neubrandenburg und Umgebung. Die Treffen finden in der Regel zweimal im Monat statt. Eine vorherige Anmeldung ist nicht erforderlich. \nAußerdem organisiert das U27 MeetUp auch Partys\, wie z. B. die Karaokeparty in der CSD Woche 2022. Schau doch auch gern auf der neuen Instagram-Seite des U27 Meetup vorbei: Link. \nAnsprechperson vor Ort: Nine \nDas Angebot findet im Dachgeschoss im Wiekhaus 46\, 4. Ringstr. 46 in 17033 Neubrandenburg statt. Der Raum ist nur über eine Treppe erreichbar. \nIm Jahr 2024 wird das Projekt „U27 MeetUp 2024“ im Rahmen des Programms „Demokratie leben!“ durch das BMFSFJ und die Partnerschaft für Demokratie Neubrandenburg (PfD) gefördert.
URL:https://queernb.de/termin/u27-meetup-10/
LOCATION:Wiekhaus 46 – Dein queeres Zentrum in Neubrandenburg\, 4. Ringstr. 46\, Neubrandenburg\, 17033
CATEGORIES:Community,U27
ORGANIZER;CN="U27 MeetUp":MAILTO:u27.meetup@queernb.de
END:VEVENT
BEGIN:VEVENT
DTSTART;VALUE=DATE:20240706
DTEND;VALUE=DATE:20240707
DTSTAMP:20260426T051626
CREATED:20240329T101120Z
LAST-MODIFIED:20240329T101120Z
UID:4095-1720224000-1720310399@queernb.de
SUMMARY:CSD Schwerin
DESCRIPTION:Infos folgen.
URL:https://queernb.de/termin/csd-schwerin/
CATEGORIES:CSD
END:VEVENT
BEGIN:VEVENT
DTSTART;TZID=Europe/Paris:20240719T180000
DTEND;TZID=Europe/Paris:20240719T200000
DTSTAMP:20260426T051626
CREATED:20240716T172950Z
LAST-MODIFIED:20240716T172950Z
UID:4341-1721412000-1721419200@queernb.de
SUMMARY:Queerer Buchclub
DESCRIPTION:Zum fünften Mal laden wir zum Queeren Buchclub ein. Bring dein queeres Lieblingsbuch mit (queere Story oder von einer*m queeren Autor*in) und stell es der Gruppe vor. \nLass uns gemeinsam in die Welt der queeren Literatur eintauchen und gemeinsam vorlesen. Du kannst auch gern ein Buch aus unserer Queeren Bibliothek auswählen. Die Recherche im Buchbestand ist unter folgendem Link bequem möglich: https://www.eopac.net/queernb/ \nEs ist keine Anmeldung erforderlich. \nP.S.: Du musst selbst nicht vorlesen\, wenn du nicht möchtest. Du kannst auch einfach einfach nur genießen. Wir freuen uns auf dich! \nDas Angebot findet im Dachgeschoss im Wiekhaus 46\, 4. Ringstr. 46 in 17033 Neubrandenburg statt. Der Raum ist nur über eine Treppe erreichbar.
URL:https://queernb.de/termin/queerer-buchclub-5/
LOCATION:Wiekhaus 46 – Dein queeres Zentrum in Neubrandenburg\, 4. Ringstr. 46\, Neubrandenburg\, 17033
CATEGORIES:Kultur
ORGANIZER;CN="queerNB e. V.":MAILTO:info@queernb.de
END:VEVENT
BEGIN:VEVENT
DTSTART;TZID=Europe/Paris:20240720T140000
DTEND;TZID=Europe/Paris:20240720T200000
DTSTAMP:20260426T051626
CREATED:20240329T100912Z
LAST-MODIFIED:20240718T153332Z
UID:4089-1721484000-1721505600@queernb.de
SUMMARY:Regenbogenstand auf dem CSD Rostock
DESCRIPTION:Wir nehmen mit unserem Regenbogenstand am Hafenfest des CSD Rostock teil. Genaue Infos dazu findest du hier.
URL:https://queernb.de/termin/csd-rostock/
LOCATION:Rostock\, Rostock\, Deutschland
CATEGORIES:CSD,Regenbogenstand
END:VEVENT
BEGIN:VEVENT
DTSTART;TZID=Europe/Paris:20240725T173000
DTEND;TZID=Europe/Paris:20240725T203000
DTSTAMP:20260426T051626
CREATED:20240723T170245Z
LAST-MODIFIED:20240723T170245Z
UID:4458-1721928600-1721939400@queernb.de
SUMMARY:U27 MeetUp
DESCRIPTION:Am 21. Mai 2022 hat unser Vereinsmitglied Sam das U27 MeetUp ins Leben gerufen. Das U27 MeetUp ist ein Angebot für alle queeren Jugendlichen und Allies aus Neubrandenburg und Umgebung. Die Treffen finden in der Regel zweimal im Monat statt. Eine vorherige Anmeldung ist nicht erforderlich. \nAußerdem organisiert das U27 MeetUp auch Partys\, wie z. B. die Karaokeparty in der CSD Woche 2022. Schau doch auch gern auf der neuen Instagram-Seite des U27 Meetup vorbei: Link. \nAnsprechperson vor Ort: Manuel \nDas Angebot findet im Dachgeschoss im Wiekhaus 46\, 4. Ringstr. 46 in 17033 Neubrandenburg statt. Der Raum ist nur über eine Treppe erreichbar. \nIm Jahr 2024 wird das Projekt „U27 MeetUp 2024“ im Rahmen des Programms „Demokratie leben!“ durch das BMFSFJ und die Partnerschaft für Demokratie Neubrandenburg (PfD) gefördert.
URL:https://queernb.de/termin/u27-meetup-18/
LOCATION:Wiekhaus 46 – Dein queeres Zentrum in Neubrandenburg\, 4. Ringstr. 46\, Neubrandenburg\, 17033
CATEGORIES:U27
ATTACH;FMTTYPE=image/jpeg:https://queernb.de/wp-content/uploads/2024/07/C74439E0-A3B4-4103-A3F9-5ECBB4D09A58.jpeg
ORGANIZER;CN="U27 MeetUp":MAILTO:u27.meetup@queernb.de
END:VEVENT
BEGIN:VEVENT
DTSTART;TZID=Europe/Paris:20240726T170000
DTEND;TZID=Europe/Paris:20240726T190000
DTSTAMP:20260426T051626
CREATED:20240329T100732Z
LAST-MODIFIED:20240329T100732Z
UID:4087-1722013200-1722020400@queernb.de
SUMMARY:Queere Beratung
DESCRIPTION:Zwischen 17 und 19 Uhr erfolgt die Beratung durch Fachkräfte der rosalila Bildung & Beratung gemeinnützige UG (haftungsbeschränkt) als Erstberatung und ggf. Folgeberatungen zu den Themen: \n\n\n\nComing Out-Hilfe\nAngehörigen-Unterstützung in allen Formen\n\n\n\nBeratung zu folgenden Themen erfolgt in Kooperation mit externen Fachstellen vorrangig durch Erstberatung und Vermittlung: \n\n\n\nTransidentität als Erstberatung zur Information über weitere Hilfsangebote\,\nEhe-\, Familien und Partnerschaftsprobleme in Kooperation mit regionalen Trägern\,\nMigration u. a. in Kooperation mit Migrationszentren und -beratungen\,\nSexuelle Bildung als Vermittlung an kooperierende sexualpädagogische Angebote.\n\n\n\nDie Berater*innen helfen: \n\n\n\nRat- und Hilfesuchenden zu den genannten Schwerpunkten und Themen\,\nAn- und Zugehörigen (Eltern\, Freund*innen\, Mitschüler*innen\, Kolleg*innen etc.)\,\nMultiplikator*innen und\ngeben Unterstützung bei der Suche nach weiteren Hilfen.\n\n\n\nDie Beratung erfolgt anonym und ist kostenfrei. Eine vorherige Anmeldung ist nicht erforderlich. Das Angebot findet im 1. Obergeschoss im Wiekhaus 46\, 4. Ringstr. 46 in 17033 Neubrandenburg statt. Der Beratungsraum ist nur über eine Treppe erreichbar. \nKontaktdaten und weitere Angebote rosalila: \nT  0395 37937815\nM post@rosalila.de\nW www.rosalila.de \nDie Beratungsangebote von rosalila Beratung & Bildung werden in Form von Projektförderungen unterstützt vom Land Mecklenburg-Vorpommern/ Ministerium für Soziales\, Integration und Gleichstellung bzw. Landkreis Mecklenburgische Seenplatte / Jugendamt.
URL:https://queernb.de/termin/queere-beratung-11/
LOCATION:Wiekhaus 46 – Dein queeres Zentrum in Neubrandenburg\, 4. Ringstr. 46\, Neubrandenburg\, 17033
CATEGORIES:Beratung
ORGANIZER;CN="rosalila Bildung & Beratung gemeinn%C3%BCtzige UG (haftungsbeschr%C3%A4nkt)":MAILTO:post@rosalila.de
END:VEVENT
BEGIN:VEVENT
DTSTART;TZID=Europe/Paris:20240726T200000
DTEND;TZID=Europe/Paris:20240726T233000
DTSTAMP:20260426T051626
CREATED:20240329T100639Z
LAST-MODIFIED:20240329T100639Z
UID:4085-1722024000-1722036600@queernb.de
SUMMARY:Queerer Stammtisch
DESCRIPTION:Der queere Stammtisch ist ein offenes und geselliges Treffen für alle Queers und Allys aus Neubrandenburg und Umgebung. Hier kannst du Leute kennenlernen und in gemütlicher Runde den Monat ausklingen lassen. Unser Vorstandsmitglied Bianca steht dir gern vor Ort bei Fragen zur Verfügung. Eine Anmeldung ist nicht erforderlich. \nDu hast an diesem Tag keine Zeit? Dann komm doch einfach zu unserem nächsten Stammtisch! Wir treffen uns an jedem letzten Freitag eines Monat. Die nächsten Termine findest du hier auf unserer Website! Dort findest du auch die Termine für unseren U27 Meetup – für queere Jugendliche und jungen queere Erwachsene.
URL:https://queernb.de/termin/queerer-stammtisch-9/
LOCATION:Wiekhaus 46 – Dein queeres Zentrum in Neubrandenburg\, 4. Ringstr. 46\, Neubrandenburg\, 17033
CATEGORIES:Community,Stammtisch
ORGANIZER;CN="queerNB e. V.":MAILTO:info@queernb.de
END:VEVENT
END:VCALENDAR