BEGIN:VCALENDAR
VERSION:2.0
PRODID:-//queerNB e.V. - ECPv6.15.20//NONSGML v1.0//EN
CALSCALE:GREGORIAN
METHOD:PUBLISH
X-WR-CALNAME:queerNB e.V.
X-ORIGINAL-URL:https://queernb.de
X-WR-CALDESC:Veranstaltungen für queerNB e.V.
REFRESH-INTERVAL;VALUE=DURATION:PT1H
X-Robots-Tag:noindex
X-PUBLISHED-TTL:PT1H
BEGIN:VTIMEZONE
TZID:Europe/Paris
BEGIN:DAYLIGHT
TZOFFSETFROM:+0100
TZOFFSETTO:+0200
TZNAME:CEST
DTSTART:20230326T010000
END:DAYLIGHT
BEGIN:STANDARD
TZOFFSETFROM:+0200
TZOFFSETTO:+0100
TZNAME:CET
DTSTART:20231029T010000
END:STANDARD
BEGIN:DAYLIGHT
TZOFFSETFROM:+0100
TZOFFSETTO:+0200
TZNAME:CEST
DTSTART:20240331T010000
END:DAYLIGHT
BEGIN:STANDARD
TZOFFSETFROM:+0200
TZOFFSETTO:+0100
TZNAME:CET
DTSTART:20241027T010000
END:STANDARD
BEGIN:DAYLIGHT
TZOFFSETFROM:+0100
TZOFFSETTO:+0200
TZNAME:CEST
DTSTART:20250330T010000
END:DAYLIGHT
BEGIN:STANDARD
TZOFFSETFROM:+0200
TZOFFSETTO:+0100
TZNAME:CET
DTSTART:20251026T010000
END:STANDARD
END:VTIMEZONE
BEGIN:VEVENT
DTSTART;TZID=Europe/Paris:20240906T140000
DTEND;TZID=Europe/Paris:20240906T180000
DTSTAMP:20260426T014153
CREATED:20240617T104121Z
LAST-MODIFIED:20240617T104121Z
UID:4317-1725631200-1725645600@queernb.de
SUMMARY:Regenbogenstand auf dem Stadtteilfest Nord
DESCRIPTION:
URL:https://queernb.de/termin/regenbogenstand-auf-dem-stadtteilfest-nord/
LOCATION:Arche N\, Am Reitbahnsee 38\, Neubrandenburg\, 17034\, Deutschland
CATEGORIES:Regenbogenstand
ORGANIZER;CN="queerNB e. V.":MAILTO:info@queernb.de
END:VEVENT
BEGIN:VEVENT
DTSTART;TZID=Europe/Paris:20240906T173000
DTEND;TZID=Europe/Paris:20240906T203000
DTSTAMP:20260426T014153
CREATED:20240329T095818Z
LAST-MODIFIED:20240329T095818Z
UID:4073-1725643800-1725654600@queernb.de
SUMMARY:U27 MeetUp
DESCRIPTION:Am 21. Mai 2022 hat unser Vereinsmitglied Sam das U27 MeetUp ins Leben gerufen. Das U27 MeetUp ist ein Angebot für alle queeren Jugendlichen und Allies aus Neubrandenburg und Umgebung. Die Treffen finden in der Regel zweimal im Monat statt. Eine vorherige Anmeldung ist nicht erforderlich. \nAußerdem organisiert das U27 MeetUp auch Partys\, wie z. B. die Karaokeparty in der CSD Woche 2022. Schau doch auch gern auf der neuen Instagram-Seite des U27 Meetup vorbei: Link. \nAnsprechperson vor Ort: Nine \nDas Angebot findet im Dachgeschoss im Wiekhaus 46\, 4. Ringstr. 46 in 17033 Neubrandenburg statt. Der Raum ist nur über eine Treppe erreichbar. \nIm Jahr 2024 wird das Projekt „U27 MeetUp 2024“ im Rahmen des Programms „Demokratie leben!“ durch das BMFSFJ und die Partnerschaft für Demokratie Neubrandenburg (PfD) gefördert.
URL:https://queernb.de/termin/u27-meetup-8/
LOCATION:Wiekhaus 46 – Dein queeres Zentrum in Neubrandenburg\, 4. Ringstr. 46\, Neubrandenburg\, 17033
CATEGORIES:Community,U27
ORGANIZER;CN="U27 MeetUp":MAILTO:u27.meetup@queernb.de
END:VEVENT
BEGIN:VEVENT
DTSTART;VALUE=DATE:20240907
DTEND;VALUE=DATE:20240909
DTSTAMP:20260426T014153
CREATED:20240329T095721Z
LAST-MODIFIED:20240329T095721Z
UID:4070-1725667200-1725839999@queernb.de
SUMMARY:Rosa-Tag im Heide-Park
DESCRIPTION:Infos folgen.
URL:https://queernb.de/termin/rosa-tag-im-heide-park/
LOCATION:Heide-Park Soltau\, Heide Park 1\, Soltau\, 29614\, Deutschland
CATEGORIES:Community
END:VEVENT
BEGIN:VEVENT
DTSTART;TZID=Europe/Paris:20240907T190000
DTEND;TZID=Europe/Paris:20240907T220000
DTSTAMP:20260426T014153
CREATED:20240814T161108Z
LAST-MODIFIED:20240814T161108Z
UID:4495-1725735600-1725746400@queernb.de
SUMMARY:Spielabend
DESCRIPTION:Wir laden dich herzlich zu unserem queeren Spielabend ein! Lass uns gemeinsam einen Abend voller Spaß erleben. Egal\, ob passionierte*r Brettspieler*in\, Kartenspielprofi oder Zuseher*in: Dieser Abend ist für alle offen. Bring gerne deine Lieblingsspiele mit oder probiere die Spiele aus unserer Sammlung aus. Wir freuen uns auf dich. \nEine vorherige Anmeldung ist nicht erforderlich. Das Angebot findet im Dachgeschoss im Wiekhaus 46\, 4. Ringstr. 46 in 17033 Neubrandenburg statt. Dieser Raum ist nur über eine Treppe erreichbar.
URL:https://queernb.de/termin/spielabend-3/
LOCATION:Wiekhaus 46 – Dein queeres Zentrum in Neubrandenburg\, 4. Ringstr. 46\, Neubrandenburg\, 17033
CATEGORIES:Community
ORGANIZER;CN="queerNB e. V.":MAILTO:info@queernb.de
END:VEVENT
BEGIN:VEVENT
DTSTART;TZID=Europe/Paris:20240911T193000
DTEND;TZID=Europe/Paris:20240911T213000
DTSTAMP:20260426T014153
CREATED:20240801T100913Z
LAST-MODIFIED:20240816T115300Z
UID:4472-1726083000-1726090200@queernb.de
SUMMARY:Film: Spoiler Alarm
DESCRIPTION:Eine Veranstaltung des KINO Latücht in Zusammenarbeit mit rosalila Beratung & Bildung/ LV Soziokultur MV e.V.
URL:https://queernb.de/termin/film-spoiler-alarm/
LOCATION:KINO LATÜCHT\, Große Krauthöfer Str. 16\, Neubrandenburg\, 1933
CATEGORIES:Kino,Kultur
ORGANIZER;CN="Lat%C3%BCcht Film & Medien e.V. Neubrandenburg":MAILTO:verein@latuecht.de
END:VEVENT
BEGIN:VEVENT
DTSTART;TZID=Europe/Paris:20240914T140000
DTEND;TZID=Europe/Paris:20240914T170000
DTSTAMP:20260426T014153
CREATED:20240721T085129Z
LAST-MODIFIED:20240721T085129Z
UID:4358-1726322400-1726333200@queernb.de
SUMMARY:CSD Wismar
DESCRIPTION:Es ist eine großzügige Demonstration durch die Wismarer Altstadt und anschließender Kundgebung auf dem Marktplatz geplant. Dort wird es neben Musik von einem DJ auch mehrere Redebeiträge geben. Der Treffpunkt ist ebenfalls auf dem Marktplatz\, am 14.09.2024 gegen 14 Uhr. Weitere Informationen erscheinen online auf Instagram unter @csdwismar \nText: Veranstalter
URL:https://queernb.de/termin/csd-wismar/
LOCATION:Wismar\, Wismar\, 23966\, Deutschland
CATEGORIES:CSD,Demo
END:VEVENT
BEGIN:VEVENT
DTSTART;TZID=Europe/Paris:20240921T100000
DTEND;TZID=Europe/Paris:20240921T160000
DTSTAMP:20260426T014153
CREATED:20240323T134155Z
LAST-MODIFIED:20240915T164141Z
UID:3972-1726912800-1726934400@queernb.de
SUMMARY:Tag der Vereine
DESCRIPTION:Wir sind mit unserem Regenbogenstand beim Tag der Vereine dabei. Erlebe unser Memory\, versuche dich am Glücksrad oder komm einfach mit uns ins Gespräch. Wir freuen uns auf dich! \n 
URL:https://queernb.de/termin/tag-der-vereine/
LOCATION:An der Konzertkirche\, An der Marienkirche\, Neubrandenburg\, 17033\, Germany
CATEGORIES:Regenbogenstand
ATTACH;FMTTYPE=image/jpeg:https://queernb.de/wp-content/uploads/2024/03/TdV_2024.jpg
END:VEVENT
BEGIN:VEVENT
DTSTART;TZID=Europe/Paris:20240924T100000
DTEND;TZID=Europe/Paris:20240924T160000
DTSTAMP:20260426T014153
CREATED:20240410T143753Z
LAST-MODIFIED:20240629T183712Z
UID:4199-1727172000-1727193600@queernb.de
SUMMARY:Fachveranstaltung zur Thematik „Geschlechtliche und sexuelle Vielfalt mitdenken und handeln. Ein wichtiger Baustein für den Kinder- und Jugendschutz.“
DESCRIPTION:Titel: Auf dem Weg zur „Regenbogenkompetenz“ in der Kinder- und Jugendhilfe und Jugendarbeit. Zum professionellen Umgang mit Themen der sexuellen und geschlechtlichen Vielfalt. \nInhalte \n\nEinführung in das Konzept der Regenbogenkompetenz nach Prof. Ulrike Schmauch\nWas bedeutet „Regenbogenkompetenz“ für das pädagogische Handeln in der Kinder- und Jugendhilfe und Jugendarbeit?\nEinführung in die zentralen Begrifflichkeiten aus dem Spektrum sexueller und geschlechtlicher Vielfalt\nWie ist die Lebenssituation von queeren Kindern und Jugendlichen?\nWarum ist das Thema in meinem professionellen Kontext wichtig?\nUnterscheidung von 4 Ebenen in denen Themen sexueller und geschlechtlicher Vielfalt vorkommen kann.\nWie ist rechtliche Situation? Was sind die aktuellen gesetzlichen Grundlagen im Kontext sexueller und geschlechtlicher Vielfalt?\nWas kann ich als Fachkraft tun und an wen kann ich mich wenden?\nWelche Unterstützungsmöglichkeiten gibt es und an welche Exptert*innen kann ich weiter verweisen?\n\nReferent*in: Kevin Rosenberger\, Akademie Waldschlösschen \nWeitere Informationen und Veranstaltungsflyer: hier.
URL:https://queernb.de/termin/fachveranstaltung-zur-thematik-geschlechtliche-und-sexuelle-vielfalt-mitdenken-und-handeln-ein-wichtiger-baustein-fuer-den-kinder-und-jugendschutz/
LOCATION:Phönixeum\, Feldstr. 3\, Neubrandenburg\, 17033
CATEGORIES:Bildung
ORGANIZER;CN="rosalila Bildung & Beratung gemeinn%C3%BCtzige UG (haftungsbeschr%C3%A4nkt)":MAILTO:post@rosalila.de
END:VEVENT
BEGIN:VEVENT
DTSTART;TZID=Europe/Paris:20240925T180000
DTEND;TZID=Europe/Paris:20240925T200000
DTSTAMP:20260426T014153
CREATED:20240830T141106Z
LAST-MODIFIED:20240830T141106Z
UID:4531-1727287200-1727294400@queernb.de
SUMMARY:Queerer Buchclub
DESCRIPTION:Wir laden zum Queeren Buchclub ein. Bring dein queeres Lieblingsbuch mit (queere Story oder von einer*m queeren Autor*in) und stell es der Gruppe vor. \nLass uns gemeinsam in die Welt der queeren Literatur eintauchen und gemeinsam vorlesen. Du kannst auch gern ein Buch aus unserer Queeren Bibliothek auswählen. Die Recherche im Buchbestand ist unter folgendem Link bequem möglich: https://www.eopac.net/queernb/ \nEs ist keine Anmeldung erforderlich. \nP.S.: Du musst selbst nicht vorlesen\, wenn du nicht möchtest. Du kannst auch einfach einfach nur genießen. Wir freuen uns auf dich! \nDas Angebot findet im Dachgeschoss im Wiekhaus 46\, 4. Ringstr. 46 in 17033 Neubrandenburg statt. Der Raum ist nur über eine Treppe erreichbar.
URL:https://queernb.de/termin/queerer-buchclub-6/
LOCATION:Wiekhaus 46 – Dein queeres Zentrum in Neubrandenburg\, 4. Ringstr. 46\, Neubrandenburg\, 17033
CATEGORIES:Community,Kultur
ORGANIZER;CN="queerNB e. V.":MAILTO:info@queernb.de
END:VEVENT
BEGIN:VEVENT
DTSTART;TZID=Europe/Paris:20240927T170000
DTEND;TZID=Europe/Paris:20240927T190000
DTSTAMP:20260426T014153
CREATED:20240329T095328Z
LAST-MODIFIED:20240816T122908Z
UID:4066-1727456400-1727463600@queernb.de
SUMMARY:Queere Beratung
DESCRIPTION:Die Beratung erfolgt als Erstberatung und ggf. Folgeberatungen als: \n\nComing Out-Hilfe\nAngehörigen-Unterstützung\nMultiplikator*innenberatung\n\nweiterhin zu \n\nFragen der geschlechtlichen Identität\,\nsexuelle Gesundheit in Kooperation mit CSG Rostock (realisieren Angebot vor Ort; jeden 2. und 4. Mittwoch im Monat)\nEhe-\, Familien und Partnerschaftsprobleme in Kooperation mit regionalen Trägern\,\nMigration\, u. a. in Kooperation mit Migrationszentren und -beratungen\,\nsexuelle Bildung als Vermittlung an kooperierende sexualpädagogische Angebote bzw. im Rahmen eigener Angebote\n\nDie Berater*innen helfen: \n\nRat- und Hilfesuchenden zu den genannten Schwerpunkten und Themen\,\nAn- und Zugehörigen (Eltern\, Freund*innen\, Mitschüler*innen\, Kolleg*innen etc.)\,\ngeben Informationen bei der Suche nach weiteren möglichen Hilfen.\n\nDie Beratung erfolgt im Einzelgespräch oder als Gruppengespräch. Gespräche sind in Paar- und Familienkonstellationen möglich. Terminabsprachen und Besprechung von einzelnen Fragen\, sind telefonisch möglich. \nDie Beratung erfolgt anonym und ist kostenfrei. Eine vorherige Anmeldung ist nicht erforderlich. Das Angebot findet im 1. Obergeschoss im Wiekhaus 46\, 4. Ringstr. 46 in 17033 Neubrandenburg statt. Der Beratungsraum ist nur über eine Treppe erreichbar. \nKontaktdaten und weitere Angebote von rosalila: \nT 0395 37937815\nM post@rosalila.de\nW www.rosalila.de \nDie Beratungsangebote von rosalila Beratung & Bildung werden in Form von Projektförderungen unterstützt vom Land Mecklenburg-Vorpommern/ Ministerium für Soziales\, Integration und Gleichstellung bzw. Landkreis Mecklenburgische Seenplatte / Jugendamt.
URL:https://queernb.de/termin/queere-beratung-9/
LOCATION:Wiekhaus 46 – Dein queeres Zentrum in Neubrandenburg\, 4. Ringstr. 46\, Neubrandenburg\, 17033
CATEGORIES:Beratung
ORGANIZER;CN="rosalila Bildung & Beratung gemeinn%C3%BCtzige UG (haftungsbeschr%C3%A4nkt)":MAILTO:post@rosalila.de
END:VEVENT
BEGIN:VEVENT
DTSTART;TZID=Europe/Paris:20240927T200000
DTEND;TZID=Europe/Paris:20240927T233000
DTSTAMP:20260426T014153
CREATED:20240329T095227Z
LAST-MODIFIED:20240329T095227Z
UID:4064-1727467200-1727479800@queernb.de
SUMMARY:Queerer Stammtisch
DESCRIPTION:Der queere Stammtisch ist ein offenes und geselliges Treffen für alle Queers und Allys aus Neubrandenburg und Umgebung. Hier kannst du Leute kennenlernen und in gemütlicher Runde den Monat ausklingen lassen. Unser Vorstandsmitglied Bianca steht dir gern vor Ort bei Fragen zur Verfügung. Eine Anmeldung ist nicht erforderlich. \nDu hast an diesem Tag keine Zeit? Dann komm doch einfach zu unserem nächsten Stammtisch! Wir treffen uns an jedem letzten Freitag eines Monat. Die nächsten Termine findest du hier auf unserer Website! Dort findest du auch die Termine für unseren U27 Meetup – für queere Jugendliche und jungen queere Erwachsene.
URL:https://queernb.de/termin/queerer-stammtisch-7/
LOCATION:Wiekhaus 46 – Dein queeres Zentrum in Neubrandenburg\, 4. Ringstr. 46\, Neubrandenburg\, 17033
CATEGORIES:Community,Stammtisch
ORGANIZER;CN="queerNB e. V.":MAILTO:info@queernb.de
END:VEVENT
BEGIN:VEVENT
DTSTART;TZID=Europe/Paris:20240928T140000
DTEND;TZID=Europe/Paris:20240928T170000
DTSTAMP:20260426T014153
CREATED:20240819T112255Z
LAST-MODIFIED:20240819T112255Z
UID:4517-1727532000-1727542800@queernb.de
SUMMARY:Frauen*Café
DESCRIPTION:Cis und trans* Frauen sind herzlich willkommen! Lasst uns zusammen eine schöne Zeit verbringen und die Vielfalt feiern. \nDas Angebot ist kostenlos\, eine Anmeldung ist nicht erforderlich. Das Angebot findet im Dachgeschoss im Wiekhaus 46\, 4. Ringstr. 46 in 17033 Neubrandenburg statt. Dieser Raum ist nur über eine Treppe erreichbar.
URL:https://queernb.de/termin/frauencafe/
LOCATION:Wiekhaus 46 – Dein queeres Zentrum in Neubrandenburg\, 4. Ringstr. 46\, Neubrandenburg\, 17033
CATEGORIES:Community
ORGANIZER;CN="queerNB e. V.":MAILTO:info@queernb.de
END:VEVENT
BEGIN:VEVENT
DTSTART;TZID=Europe/Paris:20240930T170000
DTEND;TZID=Europe/Paris:20240930T190000
DTSTAMP:20260426T014153
CREATED:20240915T173605Z
LAST-MODIFIED:20240915T173605Z
UID:4542-1727715600-1727722800@queernb.de
SUMMARY:Das rettende Ufer?! Eine Lesung zum "Queersein" in Hinblick auf interkulturelle Bedingungen
DESCRIPTION:Kommen Sie vorbei und lauschen literarischen Erfahrungsberichten. Im geschützten Rahmen lädt das Team vom Café International zum anschließenden Austausch und Verweilen ein. Eine Sprachmittlung in arabisch und persisch wird vor Ort sein.
URL:https://queernb.de/termin/das-rettende-ufer-eine-lesung-zum-queersein-in-hinblick-auf-interkulturelle-bedingungen/
LOCATION:Café International\, Neutorstraße 7\, Neubrandenburg\, 17033\, Deutschland
CATEGORIES:Community,Kultur
ORGANIZER;CN="rosalila Bildung & Beratung gemeinn%C3%BCtzige UG (haftungsbeschr%C3%A4nkt)":MAILTO:post@rosalila.de
END:VEVENT
END:VCALENDAR