BEGIN:VCALENDAR
VERSION:2.0
PRODID:-//queerNB e.V. - ECPv6.15.20//NONSGML v1.0//EN
CALSCALE:GREGORIAN
METHOD:PUBLISH
X-WR-CALNAME:queerNB e.V.
X-ORIGINAL-URL:https://queernb.de
X-WR-CALDESC:Veranstaltungen für queerNB e.V.
REFRESH-INTERVAL;VALUE=DURATION:PT1H
X-Robots-Tag:noindex
X-PUBLISHED-TTL:PT1H
BEGIN:VTIMEZONE
TZID:Europe/Paris
BEGIN:DAYLIGHT
TZOFFSETFROM:+0100
TZOFFSETTO:+0200
TZNAME:CEST
DTSTART:20230326T010000
END:DAYLIGHT
BEGIN:STANDARD
TZOFFSETFROM:+0200
TZOFFSETTO:+0100
TZNAME:CET
DTSTART:20231029T010000
END:STANDARD
BEGIN:DAYLIGHT
TZOFFSETFROM:+0100
TZOFFSETTO:+0200
TZNAME:CEST
DTSTART:20240331T010000
END:DAYLIGHT
BEGIN:STANDARD
TZOFFSETFROM:+0200
TZOFFSETTO:+0100
TZNAME:CET
DTSTART:20241027T010000
END:STANDARD
BEGIN:DAYLIGHT
TZOFFSETFROM:+0100
TZOFFSETTO:+0200
TZNAME:CEST
DTSTART:20250330T010000
END:DAYLIGHT
BEGIN:STANDARD
TZOFFSETFROM:+0200
TZOFFSETTO:+0100
TZNAME:CET
DTSTART:20251026T010000
END:STANDARD
END:VTIMEZONE
BEGIN:VEVENT
DTSTART;TZID=Europe/Paris:20241011T173000
DTEND;TZID=Europe/Paris:20241011T203000
DTSTAMP:20260425T235516
CREATED:20240329T095142Z
LAST-MODIFIED:20240329T095142Z
UID:4062-1728667800-1728678600@queernb.de
SUMMARY:U27 MeetUp
DESCRIPTION:Am 21. Mai 2022 hat unser Vereinsmitglied Sam das U27 MeetUp ins Leben gerufen. Das U27 MeetUp ist ein Angebot für alle queeren Jugendlichen und Allies aus Neubrandenburg und Umgebung. Die Treffen finden in der Regel zweimal im Monat statt. Eine vorherige Anmeldung ist nicht erforderlich. \nAußerdem organisiert das U27 MeetUp auch Partys\, wie z. B. die Karaokeparty in der CSD Woche 2022. Schau doch auch gern auf der neuen Instagram-Seite des U27 Meetup vorbei: Link. \nAnsprechperson vor Ort: Nine \nDas Angebot findet im Dachgeschoss im Wiekhaus 46\, 4. Ringstr. 46 in 17033 Neubrandenburg statt. Der Raum ist nur über eine Treppe erreichbar. \nIm Jahr 2024 wird das Projekt „U27 MeetUp 2024“ im Rahmen des Programms „Demokratie leben!“ durch das BMFSFJ und die Partnerschaft für Demokratie Neubrandenburg (PfD) gefördert.
URL:https://queernb.de/termin/u27-meetup-7/
LOCATION:Wiekhaus 46 – Dein queeres Zentrum in Neubrandenburg\, 4. Ringstr. 46\, Neubrandenburg\, 17033
CATEGORIES:Community,U27
ORGANIZER;CN="U27 MeetUp":MAILTO:u27.meetup@queernb.de
END:VEVENT
BEGIN:VEVENT
DTSTART;TZID=Europe/Paris:20241017T173000
DTEND;TZID=Europe/Paris:20241017T190000
DTSTAMP:20260425T235516
CREATED:20241011T154213Z
LAST-MODIFIED:20241011T154213Z
UID:4558-1729186200-1729191600@queernb.de
SUMMARY:Demonstration Neubrandenburg für queere Sichtbarkeit
DESCRIPTION:Der Verein queerNB e. V. ruft unter dem Motto „Neubrandenburg für queere Sichtbarkeit“ zu einer Demonstration auf. Die Veranstaltung soll Donnerstag\, den 17. Oktober um 17:30 Uhr vor dem Rathaus beginnen. Von dort aus soll sich der Demonstrationszug durch das Katharinenviertel über den Marktplatz bis hin zum Bahnhof bewegen. Unterwegs sind mehrere Zwischenkundgebungen mit Redebeiträgen geplant. \nZudem ruft der Verein mit der Aktion „Neubrandenburg\, Regenbogen steht dir!“ dazu auf\, Regenbogenflaggen an privaten Fenstern\, Balkonen und Flaggenmasten aufzuhängen. „Wir wollen damit ein Stadtbild schaffen\, dass für Vielfalt und Akzeptanz steht“\, erklärt Nils Berghof\, stellvertretender Vorstandsvorsitzender\, die Idee hinter der Aktion. \nDen jüngsten Beschluss der Stadtvertretung zur Regenbogenflagge am Bahnhof kommentiert Berghof: „Sie versuchen\, uns die Symbole zu nehmen\, unter denen wir uns versammeln. Sie versuchen uns zurück in dunkle Kammern an den Rand der Gesellschaft zu sperren. So war es schon einmal.“ \nVorstandsvorsitzender Marcel Spittel ergänzt: „Die rechtsextremen Demos gegen CSDs und Anschläge auf unser Queeres Zentrum zeigen\, dass die Rechte queerer Menschen in Gefahr sind. Wir brauchen in dieser Situation die Solidarität der breiten Gesellschaft. Was wir nicht brauchen\, sind demokratische gefassten Beschlüsse\, durch die die Sichtbarkeit queeren Lebens weiter eingeschränkt wird. Neubrandenburg ist bunt und vielfältig. Das haben heute hunderte Menschen vor dem Neubrandenburger Bahnhof gezeigt und das wollen wir auch auf unserer Demo zum Ausdruck bringen.“ \nHintergrund: In ihrer Sitzung am 9. Oktober hat die Neubrandenburger Stadtvertretung beschlossen\, dass an drei Fahnenmasten am Bahnhof keine Regenbogenflagge mehr gehisst werden darf. Einen entsprechenden Antrag brachte Tim Großmüller von der Wählergemeinschaft „Stabile Bürger Neubrandenburg“ in die Stadtvertretung ein. Der Antrag erhielt 15 Ja- und 11 Gegenstimmen. Acht Mitglieder der Stadtvertretung hatten sich enthalten. Neben Großmüller stimmten die Fraktionen AfD und Projekt NB sowie einzelne Mitglieder der Fraktion BSW/BfN für den Antrag. SPD\, GRÜNE\, LINKE und einzelne Mitglieder der Fraktion CDUplus stimmten gegen den Antrag.
URL:https://queernb.de/termin/demonstration-neubrandenburg-fuer-queere-sichtbarkeit/
LOCATION:Rathaus Neubrandenburg\, Friedrich-Engels-Ring 53\, Neubrandenburg\, 17033
ORGANIZER;CN="queerNB e. V.":MAILTO:info@queernb.de
END:VEVENT
BEGIN:VEVENT
DTSTART;TZID=Europe/Paris:20241017T193000
DTEND;TZID=Europe/Paris:20241017T213000
DTSTAMP:20260425T235516
CREATED:20240723T135556Z
LAST-MODIFIED:20240723T135556Z
UID:4445-1729193400-1729200600@queernb.de
SUMMARY:PREMIERE Inoffizielle Gefühle. Ein Recherchestück zu queerem Leben in der DDR
DESCRIPTION:Sichere Ausbildung\, schnelle Heirat\, Wohnung garantiert: In der DDR war alles besser! Aber was\, wenn das Herz anders begehrt? Wie lebten eigentlich queere Menschen zwischen LPG und Platte\, zwischen Konsum und Brigade? Tauchen Sie ein\, in die Welt des real nicht mehr existierenden Sozialismus und feiern Sie mit uns auf den Ruinen der aus Ruinen Auferstandenen. Das System DDR geht mit der Wende unter: was bleibt zurück und wie leben queere Menschen in Ostdeutschland heute? Begleiten Sie uns auf die Reise in eine Geschichte\, die so noch nie erzählt wurde. \nInszenierung → Wenzel Winzer und Patrick Heppt\nBühnen- und Kostümbild → Wenzel Winzer und Patrick Heppt\nDramaturgie → Stefanie Esser \nWeitere Termine: 26.10.2024 und 01.11.2024
URL:https://queernb.de/termin/premiere-inoffizielle-gefuehle-ein-recherchestueck-zu-queerem-leben-in-der-ddr/
LOCATION:Hotel Schlossgarten\, Tiergartenstr. 15\, Neustrelitz\, 17235\, Deutschland
CATEGORIES:Kultur,Theater
END:VEVENT
BEGIN:VEVENT
DTSTART;TZID=Europe/Paris:20241019T140000
DTEND;TZID=Europe/Paris:20241019T170000
DTSTAMP:20260425T235516
CREATED:20241018T184435Z
LAST-MODIFIED:20241018T184435Z
UID:4568-1729346400-1729357200@queernb.de
SUMMARY:Frauen*Café
DESCRIPTION:Cis und trans* Frauen sind herzlich willkommen! Lasst uns zusammen eine schöne Zeit verbringen und die Vielfalt feiern. \nDas Angebot ist kostenlos\, eine Anmeldung ist nicht erforderlich. Das Angebot findet im Dachgeschoss im Wiekhaus 46\, 4. Ringstr. 46 in 17033 Neubrandenburg statt. Dieser Raum ist nur über eine Treppe erreichbar.
URL:https://queernb.de/termin/frauencafe-2/
LOCATION:Wiekhaus 46 – Dein queeres Zentrum in Neubrandenburg\, 4. Ringstr. 46\, Neubrandenburg\, 17033
CATEGORIES:Community
ORGANIZER;CN="queerNB e. V.":MAILTO:info@queernb.de
END:VEVENT
BEGIN:VEVENT
DTSTART;TZID=Europe/Paris:20241022T170000
DTEND;TZID=Europe/Paris:20241022T190000
DTSTAMP:20260425T235516
CREATED:20240929T190258Z
LAST-MODIFIED:20240929T190258Z
UID:4548-1729616400-1729623600@queernb.de
SUMMARY:Film: Eismayer
DESCRIPTION:ein Film von David Wagner. \nMonatlich findet\, jeden vierten Dienstag 17 Uhr \, im kleinen Kreis ein Filmabend mit queeren Filmen statt. Partner ist dabei die EDITION SALZGEBER mit queeren Filmen aus aller Welt aller Kontinente. Dies ist ein gemeinsames Projekt mit dem LV Soziokultur MV e.V. \nKein Eintritt\, da dies ein nichtkommerzielles Angebot ist. Begrenzte Teilnahmemöglichkeiten\, am besten pünktlich und etwas eher kommen.
URL:https://queernb.de/termin/film-eismayer/
LOCATION:rosalila Beratung & Bildung gemeinnützige UG (haftungsbeschränkt)\, Feldstr. 3\, Neubrandenburg\, 17033\, Germany
CATEGORIES:Kino
ORGANIZER;CN="rosalila Bildung & Beratung gemeinn%C3%BCtzige UG (haftungsbeschr%C3%A4nkt)":MAILTO:post@rosalila.de
END:VEVENT
BEGIN:VEVENT
DTSTART;TZID=Europe/Paris:20241024T180000
DTEND;TZID=Europe/Paris:20241024T200000
DTSTAMP:20260425T235516
CREATED:20240830T141211Z
LAST-MODIFIED:20241019T124132Z
UID:4533-1729792800-1729800000@queernb.de
SUMMARY:Queerer Buchclub
DESCRIPTION:Wir laden zum Queeren Buchclub ein. Bring dein queeres Lieblingsbuch mit (queere Story oder von einer*m queeren Autor*in) und stell es der Gruppe vor. \nLass uns gemeinsam in die Welt der queeren Literatur eintauchen und gemeinsam vorlesen. Du kannst auch gern ein Buch aus unserer Queeren Bibliothek auswählen. Die Recherche im Buchbestand ist unter folgendem Link bequem möglich: https://www.eopac.net/queernb/ \nEs ist keine Anmeldung erforderlich. \nP.S.: Du musst selbst nicht vorlesen\, wenn du nicht möchtest. Du kannst auch einfach einfach nur genießen. Wir freuen uns auf dich! \nDas Angebot findet im Dachgeschoss im Wiekhaus 46\, 4. Ringstr. 46 in 17033 Neubrandenburg statt. Der Raum ist nur über eine Treppe erreichbar.
URL:https://queernb.de/termin/queerer-buchclub-7/
LOCATION:Wiekhaus 46 – Dein queeres Zentrum in Neubrandenburg\, 4. Ringstr. 46\, Neubrandenburg\, 17033
CATEGORIES:Community,Kultur
ORGANIZER;CN="queerNB e. V.":MAILTO:info@queernb.de
END:VEVENT
BEGIN:VEVENT
DTSTART;TZID=Europe/Paris:20241025T170000
DTEND;TZID=Europe/Paris:20241025T190000
DTSTAMP:20260425T235516
CREATED:20240329T094923Z
LAST-MODIFIED:20240816T122925Z
UID:4058-1729875600-1729882800@queernb.de
SUMMARY:Queere Beratung
DESCRIPTION:Die Beratung erfolgt als Erstberatung und ggf. Folgeberatungen als: \n\nComing Out-Hilfe\nAngehörigen-Unterstützung\nMultiplikator*innenberatung\n\nweiterhin zu \n\nFragen der geschlechtlichen Identität\,\nsexuelle Gesundheit in Kooperation mit CSG Rostock (realisieren Angebot vor Ort; jeden 2. und 4. Mittwoch im Monat)\nEhe-\, Familien und Partnerschaftsprobleme in Kooperation mit regionalen Trägern\,\nMigration\, u. a. in Kooperation mit Migrationszentren und -beratungen\,\nsexuelle Bildung als Vermittlung an kooperierende sexualpädagogische Angebote bzw. im Rahmen eigener Angebote\n\nDie Berater*innen helfen: \n\nRat- und Hilfesuchenden zu den genannten Schwerpunkten und Themen\,\nAn- und Zugehörigen (Eltern\, Freund*innen\, Mitschüler*innen\, Kolleg*innen etc.)\,\ngeben Informationen bei der Suche nach weiteren möglichen Hilfen.\n\nDie Beratung erfolgt im Einzelgespräch oder als Gruppengespräch. Gespräche sind in Paar- und Familienkonstellationen möglich. Terminabsprachen und Besprechung von einzelnen Fragen\, sind telefonisch möglich. \nDie Beratung erfolgt anonym und ist kostenfrei. Eine vorherige Anmeldung ist nicht erforderlich. Das Angebot findet im 1. Obergeschoss im Wiekhaus 46\, 4. Ringstr. 46 in 17033 Neubrandenburg statt. Der Beratungsraum ist nur über eine Treppe erreichbar. \nKontaktdaten und weitere Angebote von rosalila: \nT 0395 37937815\nM post@rosalila.de\nW www.rosalila.de \nDie Beratungsangebote von rosalila Beratung & Bildung werden in Form von Projektförderungen unterstützt vom Land Mecklenburg-Vorpommern/ Ministerium für Soziales\, Integration und Gleichstellung bzw. Landkreis Mecklenburgische Seenplatte / Jugendamt.
URL:https://queernb.de/termin/queere-beratung-8/
LOCATION:Wiekhaus 46 – Dein queeres Zentrum in Neubrandenburg\, 4. Ringstr. 46\, Neubrandenburg\, 17033
CATEGORIES:Beratung
ORGANIZER;CN="rosalila Bildung & Beratung gemeinn%C3%BCtzige UG (haftungsbeschr%C3%A4nkt)":MAILTO:post@rosalila.de
END:VEVENT
BEGIN:VEVENT
DTSTART;TZID=Europe/Paris:20241025T200000
DTEND;TZID=Europe/Paris:20241025T233000
DTSTAMP:20260425T235516
CREATED:20240329T094827Z
LAST-MODIFIED:20240329T094827Z
UID:4056-1729886400-1729899000@queernb.de
SUMMARY:Queerer Stammtisch
DESCRIPTION:Der queere Stammtisch ist ein offenes und geselliges Treffen für alle Queers und Allys aus Neubrandenburg und Umgebung. Hier kannst du Leute kennenlernen und in gemütlicher Runde den Monat ausklingen lassen. Unser Vorstandsmitglied Bianca steht dir gern vor Ort bei Fragen zur Verfügung. Eine Anmeldung ist nicht erforderlich. \nDu hast an diesem Tag keine Zeit? Dann komm doch einfach zu unserem nächsten Stammtisch! Wir treffen uns an jedem letzten Freitag eines Monat. Die nächsten Termine findest du hier auf unserer Website! Dort findest du auch die Termine für unseren U27 Meetup – für queere Jugendliche und jungen queere Erwachsene.
URL:https://queernb.de/termin/queerer-stammtisch-6/
LOCATION:Wiekhaus 46 – Dein queeres Zentrum in Neubrandenburg\, 4. Ringstr. 46\, Neubrandenburg\, 17033
CATEGORIES:Community,Stammtisch
ORGANIZER;CN="queerNB e. V.":MAILTO:info@queernb.de
END:VEVENT
BEGIN:VEVENT
DTSTART;TZID=Europe/Paris:20241026T193000
DTEND;TZID=Europe/Paris:20241026T213000
DTSTAMP:20260425T235516
CREATED:20240723T135925Z
LAST-MODIFIED:20240723T135925Z
UID:4449-1729971000-1729978200@queernb.de
SUMMARY:Inoffizielle Gefühle. Ein Recherchestück zu queerem Leben in der DDR
DESCRIPTION:Sichere Ausbildung\, schnelle Heirat\, Wohnung garantiert: In der DDR war alles besser! Aber was\, wenn das Herz anders begehrt? Wie lebten eigentlich queere Menschen zwischen LPG und Platte\, zwischen Konsum und Brigade? Tauchen Sie ein\, in die Welt des real nicht mehr existierenden Sozialismus und feiern Sie mit uns auf den Ruinen der aus Ruinen Auferstandenen. Das System DDR geht mit der Wende unter: was bleibt zurück und wie leben queere Menschen in Ostdeutschland heute? Begleiten Sie uns auf die Reise in eine Geschichte\, die so noch nie erzählt wurde. \nInszenierung → Wenzel Winzer und Patrick Heppt\nBühnen- und Kostümbild → Wenzel Winzer und Patrick Heppt\nDramaturgie → Stefanie Esser \nWeitere Termine: 17.10.2024 und 01.11.2024
URL:https://queernb.de/termin/inoffizielle-gefuehle-ein-recherchestueck-zu-queerem-leben-in-der-ddr/
LOCATION:Hotel Schlossgarten\, Tiergartenstr. 15\, Neustrelitz\, 17235\, Deutschland
CATEGORIES:Kultur,Theater
END:VEVENT
BEGIN:VEVENT
DTSTART;TZID=Europe/Paris:20241030T193000
DTEND;TZID=Europe/Paris:20241030T233000
DTSTAMP:20260425T235516
CREATED:20241024T201105Z
LAST-MODIFIED:20241024T202103Z
UID:4578-1730316600-1730331000@queernb.de
SUMMARY:Halloween Karaoke
DESCRIPTION:🎃👑 Bereit für eine gruselig glamouröse Nacht? 🌟👻 Schließ dich uns an\, wenn es wieder heißt “Halloween Karaoke”. \nZusammen mit unserer fabelhaften Gastgeberin\, Tanja très Chic feiern wir unsere Halloween Karaoke Party. 💃🎤 \nZieh dein bestes Kostüm an und sei bereit\, deinen inneren Superstar herauszulassen! 🎶👠 \n  \n📅 30.10.2024 \n⏰ 19:30 Uhr \n📍 Café International\, Neutorstraße 7\, 17034 Neubrandenburg \n  \n* 🦹🏼‍♀️ komm im Kostüm und genieße einen freien Shot an der Bar 🥃 \n* 🌈 Vereinsmitglieder genießen Getränke zum ermäßigten Preis 💸 \n* ❌ Personen U18 müssen eine elterliche Erlaubnis für den Konsum von alkoholischen Getränken sowie dem Ausgang nach 22 Uhr mit mitbringen.
URL:https://queernb.de/termin/halloween-karaoke/
LOCATION:Café International\, Neutorstraße 7\, Neubrandenburg\, 17033\, Deutschland
CATEGORIES:Party,U27
ORGANIZER;CN="U27 MeetUp":MAILTO:u27.meetup@queernb.de
END:VEVENT
BEGIN:VEVENT
DTSTART;TZID=Europe/Paris:20241031T193000
DTEND;TZID=Europe/Paris:20241031T220000
DTSTAMP:20260425T235516
CREATED:20240929T184437Z
LAST-MODIFIED:20240929T184540Z
UID:4546-1730403000-1730412000@queernb.de
SUMMARY:Kino: COMING OUT
DESCRIPTION:In der Nacht\, in der die Premiere dieses Films gefeiert wurde\, fiel die Berliner Mauer. Dass er in dieser turbulenten Zeit nicht wie viele andere spätere DEFA-Filme kaum beachtet wurde\, ist vor allem dem Gewinn des silbernen Bären bei der Berlinale 1990 zu verdanken. \nDer junge Lehrer Philipp Klarmann muss sich in diesem Film mit seiner sexuellen Orientierung auseinandersetzen. Einerseits ist er in einer partnerschaftlichen Beziehung mit seiner Kollegin Tanja\, andererseits wirft ihn das Zusammentreffen mit seiner Jugendliebe Jakob aus der Bahn. Nach einer durchzechten Nacht wird er von zwei unbekannten Helfern nach Hause gebracht. Einer ist Matthias\, den er später beim Ticketkauf vor dem Schauspielhaus wieder trifft. Mit ihm beginnt er eine Beziehung. Beim Konzertbesuch treffen dann Tanja\, Philipp und Matthias aufeinander. Es\nkommt zum Eklat\, der Philipp herausfordert und ihm eine Entscheidung abbringen wird. \n„Coming Out“ blieb der einzige DDR-Film mit zentral homosexueller Thematik. Sieben Jahre warb Heiner Carow um die Verwirklichung des Vorhabens. Seine souveräne Inszenierung mit ruhiger Kameraführung\, der gefühlvolle Soundtrack und vor allem die beeindruckende Besetzung lassen den Zuschauer die tragische Lage des Lehrers buchstäblich mitfühlen. (Text: R. Weber) \nNach der Filmvorführung steht Matthias Freihof\, der Hauptdarsteller des Films\, für ein Gespräch mit dem Publikum zur Verfügung. Die Einführung in den Film und die Moderation übernimmt unser Vereinsmitglied Rüdiger Weber.
URL:https://queernb.de/termin/kino-coming-out/
LOCATION:KINO LATÜCHT\, Große Krauthöfer Str. 16\, Neubrandenburg\, 1933
CATEGORIES:Kino
ORGANIZER;CN="Lat%C3%BCcht Film & Medien e.V. Neubrandenburg":MAILTO:verein@latuecht.de
END:VEVENT
END:VCALENDAR