BEGIN:VCALENDAR
VERSION:2.0
PRODID:-//queerNB e.V. - ECPv6.15.20//NONSGML v1.0//EN
CALSCALE:GREGORIAN
METHOD:PUBLISH
X-ORIGINAL-URL:https://queernb.de
X-WR-CALDESC:Veranstaltungen für queerNB e.V.
REFRESH-INTERVAL;VALUE=DURATION:PT1H
X-Robots-Tag:noindex
X-PUBLISHED-TTL:PT1H
BEGIN:VTIMEZONE
TZID:Europe/Paris
BEGIN:DAYLIGHT
TZOFFSETFROM:+0100
TZOFFSETTO:+0200
TZNAME:CEST
DTSTART:20230326T010000
END:DAYLIGHT
BEGIN:STANDARD
TZOFFSETFROM:+0200
TZOFFSETTO:+0100
TZNAME:CET
DTSTART:20231029T010000
END:STANDARD
BEGIN:DAYLIGHT
TZOFFSETFROM:+0100
TZOFFSETTO:+0200
TZNAME:CEST
DTSTART:20240331T010000
END:DAYLIGHT
BEGIN:STANDARD
TZOFFSETFROM:+0200
TZOFFSETTO:+0100
TZNAME:CET
DTSTART:20241027T010000
END:STANDARD
BEGIN:DAYLIGHT
TZOFFSETFROM:+0100
TZOFFSETTO:+0200
TZNAME:CEST
DTSTART:20250330T010000
END:DAYLIGHT
BEGIN:STANDARD
TZOFFSETFROM:+0200
TZOFFSETTO:+0100
TZNAME:CET
DTSTART:20251026T010000
END:STANDARD
END:VTIMEZONE
BEGIN:VEVENT
DTSTART;TZID=Europe/Paris:20241206T173000
DTEND;TZID=Europe/Paris:20241206T203000
DTSTAMP:20260425T203423
CREATED:20240329T094223Z
LAST-MODIFIED:20240329T094223Z
UID:4044-1733506200-1733517000@queernb.de
SUMMARY:U27 MeetUp
DESCRIPTION:Am 21. Mai 2022 hat unser Vereinsmitglied Sam das U27 MeetUp ins Leben gerufen. Das U27 MeetUp ist ein Angebot für alle queeren Jugendlichen und Allies aus Neubrandenburg und Umgebung. Die Treffen finden in der Regel zweimal im Monat statt. Eine vorherige Anmeldung ist nicht erforderlich. \nAußerdem organisiert das U27 MeetUp auch Partys\, wie z. B. die Karaokeparty in der CSD Woche 2022. Schau doch auch gern auf der neuen Instagram-Seite des U27 Meetup vorbei: Link. \nAnsprechperson vor Ort: Nine \nDas Angebot findet im Dachgeschoss im Wiekhaus 46\, 4. Ringstr. 46 in 17033 Neubrandenburg statt. Der Raum ist nur über eine Treppe erreichbar. \nIm Jahr 2024 wird das Projekt „U27 MeetUp 2024“ im Rahmen des Programms „Demokratie leben!“ durch das BMFSFJ und die Partnerschaft für Demokratie Neubrandenburg (PfD) gefördert.
URL:https://queernb.de/termin/u27-meetup-5/
LOCATION:Wiekhaus 46 – Dein queeres Zentrum in Neubrandenburg\, 4. Ringstr. 46\, Neubrandenburg\, 17033
CATEGORIES:Community,U27
ORGANIZER;CN="U27 MeetUp":MAILTO:u27.meetup@queernb.de
END:VEVENT
BEGIN:VEVENT
DTSTART;TZID=Europe/Paris:20241208T173000
DTEND;TZID=Europe/Paris:20241208T200000
DTSTAMP:20260425T203423
CREATED:20241205T201407Z
LAST-MODIFIED:20241205T201407Z
UID:4612-1733679000-1733688000@queernb.de
SUMMARY:Spielabend
DESCRIPTION:Wir laden dich herzlich zu unserem queeren Spielabend ein! Lass uns gemeinsam einen Abend voller Spaß erleben. Egal\, ob passionierte*r Brettspieler*in\, Kartenspielprofi oder Zuseher*in: Dieser Abend ist für alle offen. Bring gerne deine Lieblingsspiele mit oder probiere die Spiele aus unserer Sammlung aus. Wir freuen uns auf dich. \nEine vorherige Anmeldung ist nicht erforderlich. Das Angebot findet im Dachgeschoss im Wiekhaus 46\, 4. Ringstr. 46 in 17033 Neubrandenburg statt. Dieser Raum ist nur über eine Treppe erreichbar.
URL:https://queernb.de/termin/spielabend-4/
LOCATION:Wiekhaus 46 – Dein queeres Zentrum in Neubrandenburg\, 4. Ringstr. 46\, Neubrandenburg\, 17033
CATEGORIES:Community
ORGANIZER;CN="queerNB e. V.":MAILTO:info@queernb.de
END:VEVENT
BEGIN:VEVENT
DTSTART;TZID=Europe/Paris:20241211T173000
DTEND;TZID=Europe/Paris:20241211T203000
DTSTAMP:20260425T203423
CREATED:20241101T140159Z
LAST-MODIFIED:20241101T140159Z
UID:4588-1733938200-1733949000@queernb.de
SUMMARY:U27 MeetUp
DESCRIPTION:Am 21. Mai 2022 hat unser Vereinsmitglied Sam das U27 MeetUp ins Leben gerufen. Das U27 MeetUp ist ein Angebot für alle queeren Jugendlichen und Allies aus Neubrandenburg und Umgebung. Die Treffen finden in der Regel zweimal im Monat statt. Eine vorherige Anmeldung ist nicht erforderlich. \nAußerdem organisiert das U27 MeetUp auch Partys\, wie z. B. die Karaokeparty in der CSD Woche 2022. Schau doch auch gern auf der neuen Instagram-Seite des U27 Meetup vorbei: Link. \nDas Angebot findet im Dachgeschoss im Wiekhaus 46\, 4. Ringstr. 46 in 17033 Neubrandenburg statt. Der Raum ist nur über eine Treppe erreichbar. \nIm Jahr 2024 wird das Projekt „U27 MeetUp 2024“ im Rahmen des Programms „Demokratie leben!“ durch das BMFSFJ und die Partnerschaft für Demokratie Neubrandenburg (PfD) gefördert.
URL:https://queernb.de/termin/u27-meetup-21/
LOCATION:Wiekhaus 46 – Dein queeres Zentrum in Neubrandenburg\, 4. Ringstr. 46\, Neubrandenburg\, 17033
CATEGORIES:Community,U27
ORGANIZER;CN="U27 MeetUp":MAILTO:u27.meetup@queernb.de
END:VEVENT
BEGIN:VEVENT
DTSTART;TZID=Europe/Paris:20241214T190000
DTEND;TZID=Europe/Paris:20241214T233000
DTSTAMP:20260425T203423
CREATED:20241205T201719Z
LAST-MODIFIED:20241205T201954Z
UID:4614-1734202800-1734219000@queernb.de
SUMMARY:Weihnachtskaraoke
DESCRIPTION:Im Jahr 2024 wird das Projekt „U27 MeetUp 2024“ im Rahmen des Programms „Demokratie leben!“ durch das BMFSFJ und die Partnerschaft für Demokratie Neubrandenburg (PfD) gefördert.
URL:https://queernb.de/termin/weihnachtskaraoke/
LOCATION:Café International\, Neutorstraße 7\, Neubrandenburg\, 17033\, Deutschland
CATEGORIES:Community,Kultur,U27
ORGANIZER;CN="U27 MeetUp":MAILTO:u27.meetup@queernb.de
END:VEVENT
BEGIN:VEVENT
DTSTART;TZID=Europe/Paris:20241219T170000
DTEND;TZID=Europe/Paris:20241219T190000
DTSTAMP:20260425T203423
CREATED:20240929T190527Z
LAST-MODIFIED:20240929T190623Z
UID:4553-1734627600-1734634800@queernb.de
SUMMARY:Film: Frauensee
DESCRIPTION:ein Film von Zoltan Paul \nMonatlich findet\, jeden vierten Dienstag 17 Uhr \, im kleinen Kreis ein Filmabend mit queeren Filmen statt. Partner ist dabei die EDITION SALZGEBER mit queeren Filmen aus aller Welt aller Kontinente. Dies ist ein gemeinsames Projekt mit dem LV Soziokultur MV e.V. \nKein Eintritt\, da dies ein nichtkommerzielles Angebot ist. Begrenzte Teilnahmemöglichkeiten\, am besten pünktlich und etwas eher kommen.
URL:https://queernb.de/termin/film-frauensee/
LOCATION:rosalila Beratung & Bildung gemeinnützige UG (haftungsbeschränkt)\, Feldstr. 3\, Neubrandenburg\, 17033\, Germany
CATEGORIES:Kino
ORGANIZER;CN="rosalila Bildung & Beratung gemeinn%C3%BCtzige UG (haftungsbeschr%C3%A4nkt)":MAILTO:post@rosalila.de
END:VEVENT
BEGIN:VEVENT
DTSTART;TZID=Europe/Paris:20241221T180000
DTEND;TZID=Europe/Paris:20241221T210000
DTSTAMP:20260425T203423
CREATED:20241218T165148Z
LAST-MODIFIED:20241221T121107Z
UID:4627-1734804000-1734814800@queernb.de
SUMMARY:Weihnachtlicher Leseabend
DESCRIPTION:Diesen Samstag 21.12.2024 um 18:00 Uhr findet im Wiekhaus 46 ein gemütlicher Leseabend statt. Wir nehmen uns die Zeit über Bücher und ihre Autor*innen zu sprechen\, zu lesen und gemütlich beisammen zu sitzen. Bringt gerne ausreichend Bücher mit\, ob weihnachtlich\, queer\, beides oder nichts davon. Gerne dürfen für die gemütliche Atmosphäre auch Kissen und Decken mitgebracht werden. Für eine Kleinigkeit zu essen ist gesorgt\,\nGetränke gibt es wie immer an der Bar. Wir freuen uns auf euch und einen schönen Abend. \nGerne mit Anmeldung unter: nine.kramer@queernb.de \nDas Angebot findet im Wiekhaus 46\, 4.\nRingstr. 46 in 17033 Neubrandenburg statt.\nDer Raum ist nur über eine Treppe erreichbar.
URL:https://queernb.de/termin/weihnachtlicher-leseabend/
LOCATION:Wiekhaus 46 – Dein queeres Zentrum in Neubrandenburg\, 4. Ringstr. 46\, Neubrandenburg\, 17033
CATEGORIES:Buchclub,Kultur
ORGANIZER;CN="queerNB e. V.":MAILTO:info@queernb.de
END:VEVENT
BEGIN:VEVENT
DTSTART;TZID=Europe/Paris:20241223T201500
DTEND;TZID=Europe/Paris:20241223T221500
DTSTAMP:20260425T203423
CREATED:20241221T181118Z
LAST-MODIFIED:20241221T181118Z
UID:4696-1734984900-1734992100@queernb.de
SUMMARY:Queer FilmNacht: Sebastian
DESCRIPTION:Jamie Bernadette\, Darius McCrary und Clifton Powell in einem Film von Mann Robinson
URL:https://queernb.de/termin/queer-filmnacht-sebastian/
LOCATION:Kino Movie Star Neustrelitz\, Kühlhausberg 16\, Neustrelitz\, 17235
CATEGORIES:Kino
END:VEVENT
BEGIN:VEVENT
DTSTART;TZID=Europe/Paris:20241227T200000
DTEND;TZID=Europe/Paris:20241227T233000
DTSTAMP:20260425T203423
CREATED:20240329T093947Z
LAST-MODIFIED:20240329T093947Z
UID:4040-1735329600-1735342200@queernb.de
SUMMARY:Queerer Stammtisch
DESCRIPTION:Der queere Stammtisch ist ein offenes und geselliges Treffen für alle Queers und Allys aus Neubrandenburg und Umgebung. Hier kannst du Leute kennenlernen und in gemütlicher Runde den Monat ausklingen lassen. Unser Vorstandsmitglied Bianca steht dir gern vor Ort bei Fragen zur Verfügung. Eine Anmeldung ist nicht erforderlich. \nDas Angebot findet im Dachgeschoss im Wiekhaus 46\, 4. Ringstr. 46 in 17033 Neubrandenburg statt. Der Raum ist nur über eine Treppe erreichbar. \nDu hast an diesem Tag keine Zeit? Dann komm doch einfach zu unserem nächsten Stammtisch! Wir treffen uns an jedem letzten Freitag eines Monat. Die nächsten Termine findest du hier auf unserer Website! Dort findest du auch die Termine für unseren U27 Meetup – für queere Jugendliche und jungen queere Erwachsene.
URL:https://queernb.de/termin/queerer-stammtisch-4/
LOCATION:Wiekhaus 46 – Dein queeres Zentrum in Neubrandenburg\, 4. Ringstr. 46\, Neubrandenburg\, 17033
CATEGORIES:Community,Stammtisch
ORGANIZER;CN="queerNB e. V.":MAILTO:info@queernb.de
END:VEVENT
END:VCALENDAR