BEGIN:VCALENDAR
VERSION:2.0
PRODID:-//queerNB e.V. - ECPv6.15.20//NONSGML v1.0//EN
CALSCALE:GREGORIAN
METHOD:PUBLISH
X-ORIGINAL-URL:https://queernb.de
X-WR-CALDESC:Veranstaltungen für queerNB e.V.
REFRESH-INTERVAL;VALUE=DURATION:PT1H
X-Robots-Tag:noindex
X-PUBLISHED-TTL:PT1H
BEGIN:VTIMEZONE
TZID:Europe/Paris
BEGIN:DAYLIGHT
TZOFFSETFROM:+0100
TZOFFSETTO:+0200
TZNAME:CEST
DTSTART:20240331T010000
END:DAYLIGHT
BEGIN:STANDARD
TZOFFSETFROM:+0200
TZOFFSETTO:+0100
TZNAME:CET
DTSTART:20241027T010000
END:STANDARD
BEGIN:DAYLIGHT
TZOFFSETFROM:+0100
TZOFFSETTO:+0200
TZNAME:CEST
DTSTART:20250330T010000
END:DAYLIGHT
BEGIN:STANDARD
TZOFFSETFROM:+0200
TZOFFSETTO:+0100
TZNAME:CET
DTSTART:20251026T010000
END:STANDARD
BEGIN:DAYLIGHT
TZOFFSETFROM:+0100
TZOFFSETTO:+0200
TZNAME:CEST
DTSTART:20260329T010000
END:DAYLIGHT
BEGIN:STANDARD
TZOFFSETFROM:+0200
TZOFFSETTO:+0100
TZNAME:CET
DTSTART:20261025T010000
END:STANDARD
END:VTIMEZONE
BEGIN:VEVENT
DTSTART;TZID=Europe/Paris:20250103T173000
DTEND;TZID=Europe/Paris:20250103T193000
DTSTAMP:20260425T190229
CREATED:20241220T220525Z
LAST-MODIFIED:20241220T220525Z
UID:4635-1735925400-1735932600@queernb.de
SUMMARY:U27 MeetUp
DESCRIPTION:Am 21. Mai 2022 hat unser Vereinsmitglied Sam das U27 MeetUp ins Leben gerufen. Das U27 MeetUp ist ein Angebot für alle queeren Jugendlichen und Allies aus Neubrandenburg und Umgebung. Die Treffen finden in der Regel zweimal im Monat statt. Eine vorherige Anmeldung ist nicht erforderlich. \nAußerdem organisiert das U27 MeetUp auch Partys\, wie z. B. die Karaokeparty in der CSD Woche 2022. Schau doch auch gern auf der neuen Instagram-Seite des U27 Meetup vorbei: Link. \nAnsprechperson vor Ort: Nine \nDas Angebot findet im Dachgeschoss im Wiekhaus 46\, 4. Ringstr. 46 in 17033 Neubrandenburg statt. Der Raum ist nur über eine Treppe erreichbar.
URL:https://queernb.de/termin/u27-meetup-23/
LOCATION:Wiekhaus 46 – Dein queeres Zentrum in Neubrandenburg\, 4. Ringstr. 46\, Neubrandenburg\, 17033
CATEGORIES:Community,U27
ORGANIZER;CN="U27 MeetUp":MAILTO:u27.meetup@queernb.de
END:VEVENT
BEGIN:VEVENT
DTSTART;TZID=Europe/Paris:20250111T140000
DTEND;TZID=Europe/Paris:20250111T170000
DTSTAMP:20260425T190229
CREATED:20241221T175650Z
LAST-MODIFIED:20241221T175650Z
UID:4692-1736604000-1736614800@queernb.de
SUMMARY:Frauen*Café
DESCRIPTION:Cis und trans* Frauen sind herzlich willkommen! Lasst uns zusammen eine schöne Zeit verbringen und die Vielfalt feiern. \nDas Angebot ist kostenlos\, eine Anmeldung ist nicht erforderlich. Das Angebot findet im Dachgeschoss im Wiekhaus 46\, 4. Ringstr. 46 in 17033 Neubrandenburg statt. Dieser Raum ist nur über eine Treppe erreichbar.
URL:https://queernb.de/termin/frauencafe-3/
LOCATION:Wiekhaus 46 – Dein queeres Zentrum in Neubrandenburg\, 4. Ringstr. 46\, Neubrandenburg\, 17033
CATEGORIES:Community,FINTA
ORGANIZER;CN="queerNB e. V.":MAILTO:info@queernb.de
END:VEVENT
BEGIN:VEVENT
DTSTART;TZID=Europe/Paris:20250111T200000
DTEND;TZID=Europe/Paris:20250111T230000
DTSTAMP:20260425T190229
CREATED:20241221T175203Z
LAST-MODIFIED:20241223T212627Z
UID:4690-1736625600-1736636400@queernb.de
SUMMARY:Herrenabend
DESCRIPTION:Geselliger Herrenabend. Genieße ein kühles Getränk und verbringe mit anderen einen schönen Samstagabend. \nDas Angebot findet im Erdgeschoss im Wiekhaus 46\, 4. Ringstr. 46 in 17033 Neubrandenburg statt. Der Raum ist nur über eine Treppe erreichbar.
URL:https://queernb.de/termin/herrenabend-2/
LOCATION:Wiekhaus 46 – Dein queeres Zentrum in Neubrandenburg\, 4. Ringstr. 46\, Neubrandenburg\, 17033
CATEGORIES:Community,Men Only
ORGANIZER;CN="queerNB e. V.":MAILTO:info@queernb.de
END:VEVENT
BEGIN:VEVENT
DTSTART;TZID=Europe/Paris:20250113T173000
DTEND;TZID=Europe/Paris:20250113T213000
DTSTAMP:20260425T190229
CREATED:20241220T220821Z
LAST-MODIFIED:20250113T181014Z
UID:4637-1736789400-1736803800@queernb.de
SUMMARY:Jahreshauptversammlung U27 MeetUp
DESCRIPTION:
URL:https://queernb.de/termin/jahreshauptversammlung-u27-meetup/
LOCATION:Wiekhaus 46 – Dein queeres Zentrum in Neubrandenburg\, 4. Ringstr. 46\, Neubrandenburg\, 17033
CATEGORIES:Community,U27
ORGANIZER;CN="U27 MeetUp":MAILTO:u27.meetup@queernb.de
END:VEVENT
BEGIN:VEVENT
DTSTART;TZID=Europe/Paris:20250123T173000
DTEND;TZID=Europe/Paris:20250123T213000
DTSTAMP:20260425T190229
CREATED:20241220T220936Z
LAST-MODIFIED:20241220T220936Z
UID:4639-1737653400-1737667800@queernb.de
SUMMARY:U27 MeetUp
DESCRIPTION:Am 21. Mai 2022 hat unser Vereinsmitglied Sam das U27 MeetUp ins Leben gerufen. Das U27 MeetUp ist ein Angebot für alle queeren Jugendlichen und Allies aus Neubrandenburg und Umgebung. Die Treffen finden in der Regel zweimal im Monat statt. Eine vorherige Anmeldung ist nicht erforderlich. \nAußerdem organisiert das U27 MeetUp auch Partys\, wie z. B. die Karaokeparty in der CSD Woche 2022. Schau doch auch gern auf der neuen Instagram-Seite des U27 Meetup vorbei: Link. \nAnsprechperson vor Ort: Manu \nDas Angebot findet im Dachgeschoss im Wiekhaus 46\, 4. Ringstr. 46 in 17033 Neubrandenburg statt. Der Raum ist nur über eine Treppe erreichbar.
URL:https://queernb.de/termin/u27-meetup-24/
LOCATION:Wiekhaus 46 – Dein queeres Zentrum in Neubrandenburg\, 4. Ringstr. 46\, Neubrandenburg\, 17033
CATEGORIES:Community,U27
ORGANIZER;CN="U27 MeetUp":MAILTO:u27.meetup@queernb.de
END:VEVENT
BEGIN:VEVENT
DTSTART;TZID=Europe/Paris:20250124T190000
DTEND;TZID=Europe/Paris:20250124T230000
DTSTAMP:20260425T190229
CREATED:20241221T174742Z
LAST-MODIFIED:20241221T174742Z
UID:4688-1737745200-1737759600@queernb.de
SUMMARY:Spielabend
DESCRIPTION:Wir laden dich herzlich zu unserem queeren Spielabend ein! Lass uns gemeinsam einen Abend voller Spaß erleben. Egal\, ob passionierte*r Brettspieler*in\, Kartenspielprofi oder Zuseher*in: Dieser Abend ist für alle offen. Bring gerne deine Lieblingsspiele mit oder probiere die Spiele aus unserer Sammlung aus. Wir freuen uns auf dich. \nEine vorherige Anmeldung ist nicht erforderlich. Das Angebot findet im Dachgeschoss im Wiekhaus 46\, 4. Ringstr. 46 in 17033 Neubrandenburg statt. Dieser Raum ist nur über eine Treppe erreichbar.
URL:https://queernb.de/termin/spielabend-5/
LOCATION:Wiekhaus 46 – Dein queeres Zentrum in Neubrandenburg\, 4. Ringstr. 46\, Neubrandenburg\, 17033
CATEGORIES:Community
ORGANIZER;CN="queerNB e. V.":MAILTO:info@queernb.de
END:VEVENT
BEGIN:VEVENT
DTSTART;TZID=Europe/Paris:20250127T201500
DTEND;TZID=Europe/Paris:20250127T214500
DTSTAMP:20260425T190229
CREATED:20241221T181356Z
LAST-MODIFIED:20241221T181356Z
UID:4698-1738008900-1738014300@queernb.de
SUMMARY:Queer FilmNacht: On the Go
DESCRIPTION:+++ spanisch-englische Originalfassung mit deutschen Untertiteln +++ Milagros möchte schwanger werden\, schreckt aber vor der Anonymität der künstlichen Befruchtung zurück. Mit dem alten Chevrolet ihres Vaters macht sie…
URL:https://queernb.de/termin/queer-filmnacht-on-the-go/
LOCATION:Kino Movie Star Neustrelitz\, Kühlhausberg 16\, Neustrelitz\, 17235
CATEGORIES:Kino
END:VEVENT
BEGIN:VEVENT
DTSTART;TZID=Europe/Paris:20250129T180000
DTEND;TZID=Europe/Paris:20250129T200000
DTSTAMP:20260425T190229
CREATED:20241205T204725Z
LAST-MODIFIED:20241205T204725Z
UID:4617-1738173600-1738180800@queernb.de
SUMMARY:Queerer Buchclub
DESCRIPTION:Wir laden zum Queeren Buchclub ein. Bring dein queeres Lieblingsbuch mit (queere Story oder von einer*m queeren Autor*in) und stell es der Gruppe vor. \nLass uns gemeinsam in die Welt der queeren Literatur eintauchen und gemeinsam vorlesen. Du kannst auch gern ein Buch aus unserer Queeren Bibliothek auswählen. Die Recherche im Buchbestand ist unter folgendem Link bequem möglich: https://www.eopac.net/queernb/ \nEs ist keine Anmeldung erforderlich. \nP.S.: Du musst selbst nicht vorlesen\, wenn du nicht möchtest. Du kannst auch einfach einfach nur genießen. Wir freuen uns auf dich! \nDas Angebot findet im Dachgeschoss im Wiekhaus 46\, 4. Ringstr. 46 in 17033 Neubrandenburg statt. Der Raum ist nur über eine Treppe erreichbar.
URL:https://queernb.de/termin/queerer-buchclub-9/
LOCATION:Wiekhaus 46 – Dein queeres Zentrum in Neubrandenburg\, 4. Ringstr. 46\, Neubrandenburg\, 17033
CATEGORIES:Community,Kultur
ORGANIZER;CN="queerNB e. V.":MAILTO:info@queernb.de
END:VEVENT
BEGIN:VEVENT
DTSTART;TZID=Europe/Paris:20250131T200000
DTEND;TZID=Europe/Paris:20250131T233000
DTSTAMP:20260425T190229
CREATED:20241221T180031Z
LAST-MODIFIED:20241221T180031Z
UID:4694-1738353600-1738366200@queernb.de
SUMMARY:Queerer Stammtisch
DESCRIPTION:Der queere Stammtisch ist ein offenes und geselliges Treffen für alle Queers und Allys aus Neubrandenburg und Umgebung. Hier kannst du Leute kennenlernen und in gemütlicher Runde den Monat ausklingen lassen. Unser Vorstandsmitglied Bianca steht dir gern vor Ort bei Fragen zur Verfügung. Eine Anmeldung ist nicht erforderlich. \nDas Angebot findet im Dachgeschoss im Wiekhaus 46\, 4. Ringstr. 46 in 17033 Neubrandenburg statt. Der Raum ist nur über eine Treppe erreichbar. \nDu hast an diesem Tag keine Zeit? Dann komm doch einfach zu unserem nächsten Stammtisch! Wir treffen uns an jedem letzten Freitag eines Monat. Die nächsten Termine findest du auf unserer Website! Dort findest du auch die Termine für unseren U27 Meetup – für queere Jugendliche und jungen queere Erwachsene.
URL:https://queernb.de/termin/queerer-stammtisch-13/
LOCATION:Wiekhaus 46 – Dein queeres Zentrum in Neubrandenburg\, 4. Ringstr. 46\, Neubrandenburg\, 17033
CATEGORIES:Community
ORGANIZER;CN="queerNB e. V.":MAILTO:info@queernb.de
END:VEVENT
END:VCALENDAR